{
 "currentVersion": 11.3,
 "cimVersion": "3.3.0",
 "serviceDescription": "",
 "mapName": "Generalized_Zoning",
 "description": "In late 2018, MDP embarked on an update of the Statewide Generalized Zoning dataset, which prior to that was most recently updated in 2010. The update included changes to the methodology, generalized zoning categories, new spatial data, and updated summary tables. The new zoning categories shifted the Resource Protection categories to Rural zoning classes. Many of the other changes were implemented to enable MDP to update and enhance its ability to complete state, regional, and local development capacity analyses. The 2021 generalized zoning data was collected directly from counties and municipalities and received little processing to incorporate the data into a single dataset. After aggregating and generalizing, jurisdictions were invited to review and provide feedback on the generalized zoning tables in 2021 and the generalized zoning map in 2022.Generalized zoning data is not meant to substitute for local zoning information and should not be used to determine permissible uses or other potential development of a specific property. For information on local zoning, contact the local zoning office for the county or municipality in which you are interested. Fields include:Generalized Zoning (String, 30) \u2013 Generalized zoning based on MDP generalized zoning categories and dwelling units per acre as described by a zoning ordinance. Generalized Zoning Categories (String, 255) \u2013 Link to Maryland Department of Planning Generalized Zoning Categories (word document). Jurisdiction Code (String, 4) \u2013 Four letter county code: ALLE (Allegany), ANNE (Anne Arundel), BACI (Baltimore City), BACO (Baltimore County), CALV (Calvert), CARO (Caroline), CARR (Carroll), CECI (Cecil), CHAR (Charles), DORC (Dorchester), FRED (Frederick), GARR (Garrett), HARF (Harford), HOWA (Howard), KENT (Kent), MONT (Montgomery), PRIN (Prince George\u2019s) QUEE (Queen Anne\u2019s), SOME (Somerset), STMA (St. Mary\u2019s), TALB (Talbot), WASH (Washington), WICO (Wicomico), WORC (Worcester). MUNICIPALITY_NAME (String, 50) \u2013 Name of municipality if zoning is municipal. A blank value ' ' means zoning comes from the county zoning.UPDATEYR (String, 10) \u2013 Date (YYYYMMDD) of when MDP collected the generalized zoning data from the local jurisdiction. It should be noted that this is not necessarily the same date as when the local government updated its zoning map. If the month or day is unknown, the date is YYYY0000.SOURCE (String, 255) - Link to more information.",
 "copyrightText": "Maryland Department of Planning, MDP",
 "supportsDynamicLayers": true,
 "layers": [
  {
   "id": 0,
   "name": "Generalized Zoning 2021",
   "parentLayerId": -1,
   "defaultVisibility": true,
   "subLayerIds": null,
   "minScale": 0,
   "maxScale": 0,
   "type": "Feature Layer",
   "geometryType": "esriGeometryPolygon",
   "supportsDynamicLegends": true
  }
 ],
 "tables": [],
 "spatialReference": {
  "wkid": 26985,
  "latestWkid": 26985,
  "xyTolerance": 0.001,
  "zTolerance": 0.001,
  "mTolerance": 0.001,
  "falseX": -36747100,
  "falseY": -29091500,
  "xyUnits": 10000,
  "falseZ": -100000,
  "zUnits": 10000,
  "falseM": -100000,
  "mUnits": 10000
 },
 "singleFusedMapCache": true,
 "tileInfo": {
  "rows": 256,
  "cols": 256,
  "dpi": 96,
  "format": "PNG",
  "compressionQuality": 0,
  "origin": {
   "x": -3.67469824932288E7,
   "y": 3.3878631359997824E7
  },
  "spatialReference": {
   "wkid": 26985,
   "latestWkid": 26985,
   "xyTolerance": 0.001,
   "zTolerance": 0.001,
   "mTolerance": 0.001,
   "falseX": -36747100,
   "falseY": -29091500,
   "xyUnits": 10000,
   "falseZ": -100000,
   "zUnits": 10000,
   "falseM": -100000,
   "mUnits": 10000
  },
  "lods": [
   {
    "level": 0,
    "resolution": 290210.80072835,
    "scale": 1.0968597192882519E9
   },
   {
    "level": 1,
    "resolution": 145105.400364175,
    "scale": 5.484298596441259E8
   },
   {
    "level": 2,
    "resolution": 72552.7001820875,
    "scale": 2.7421492982206297E8
   },
   {
    "level": 3,
    "resolution": 36276.35009104375,
    "scale": 1.3710746491103148E8
   },
   {
    "level": 4,
    "resolution": 18138.175045521875,
    "scale": 6.855373245551574E7
   },
   {
    "level": 5,
    "resolution": 9069.087522760938,
    "scale": 3.427686622775787E7
   },
   {
    "level": 6,
    "resolution": 4534.543761380469,
    "scale": 1.7138433113878936E7
   },
   {
    "level": 7,
    "resolution": 2267.2718806902344,
    "scale": 8569216.556939468
   },
   {
    "level": 8,
    "resolution": 1133.6359403451172,
    "scale": 4284608.278469734
   },
   {
    "level": 9,
    "resolution": 566.8179701725586,
    "scale": 2142304.139234867
   },
   {
    "level": 10,
    "resolution": 283.4089850862793,
    "scale": 1071152.0696174335
   },
   {
    "level": 11,
    "resolution": 141.70449254313965,
    "scale": 535576.0348087167
   },
   {
    "level": 12,
    "resolution": 70.85224627156983,
    "scale": 267788.01740435837
   },
   {
    "level": 13,
    "resolution": 35.42612313578491,
    "scale": 133894.00870217918
   },
   {
    "level": 14,
    "resolution": 17.713061567892456,
    "scale": 66947.00435108959
   },
   {
    "level": 15,
    "resolution": 8.856530783946228,
    "scale": 33473.502175544796
   },
   {
    "level": 16,
    "resolution": 4.428265391973114,
    "scale": 16736.751087772398
   },
   {
    "level": 17,
    "resolution": 2.214132695986557,
    "scale": 8368.375543886199
   },
   {
    "level": 18,
    "resolution": 1.1070663479932785,
    "scale": 4184.1877719430995
   }
  ]
 },
 "storageInfo": {
  "storageFormat": "esriMapCacheStorageModeCompactV2",
  "packetSize": 128
 },
 "initialExtent": {
  "xmin": 195369.0233021192,
  "ymin": -3284.737191347929,
  "xmax": 560127.8222978748,
  "ymax": 262072.96729134634,
  "spatialReference": {
   "wkid": 26985,
   "latestWkid": 26985,
   "xyTolerance": 0.001,
   "zTolerance": 0.001,
   "mTolerance": 0.001,
   "falseX": -36747100,
   "falseY": -29091500,
   "xyUnits": 10000,
   "falseZ": -100000,
   "zUnits": 10000,
   "falseM": -100000,
   "mUnits": 10000
  }
 },
 "fullExtent": {
  "xmin": 185232.46899999678,
  "ymin": 27837.464099999517,
  "xmax": 570264.3765999973,
  "ymax": 230950.7659999989,
  "spatialReference": {
   "wkid": 26985,
   "latestWkid": 26985,
   "xyTolerance": 0.001,
   "zTolerance": 0.001,
   "mTolerance": 0.001,
   "falseX": -36747100,
   "falseY": -29091500,
   "xyUnits": 10000,
   "falseZ": -100000,
   "zUnits": 10000,
   "falseM": -100000,
   "mUnits": 10000
  }
 },
 "datesInUnknownTimezone": false,
 "minScale": 4284608.278469734,
 "maxScale": 8368.375543886199,
 "minLOD": 8,
 "maxLOD": 17,
 "units": "esriMeters",
 "supportedImageFormatTypes": "PNG32,PNG24,PNG,JPG,DIB,TIFF,EMF,PS,PDF,GIF,SVG,SVGZ,BMP",
 "documentInfo": {
  "Title": "Map",
  "Author": "",
  "Comments": "In late 2018, MDP embarked on an update of the Statewide Generalized Zoning dataset, which prior to that was most recently updated in 2010. The update included changes to the methodology, generalized zoning categories, new spatial data, and updated summary tables. The new zoning categories shifted the Resource Protection categories to Rural zoning classes. Many of the other changes were implemented to enable MDP to update and enhance its ability to complete state, regional, and local development capacity analyses. The 2021 generalized zoning data was collected directly from counties and municipalities and received little processing to incorporate the data into a single dataset. After aggregating and generalizing, jurisdictions were invited to review and provide feedback on the generalized zoning tables in 2021 and the generalized zoning map in 2022.Generalized zoning data is not meant to substitute for local zoning information and should not be used to determine permissible uses or other potential development of a specific property. For information on local zoning, contact the local zoning office for the county or municipality in which you are interested. Fields include:Generalized Zoning (String, 30) \u2013 Generalized zoning based on MDP generalized zoning categories and dwelling units per acre as described by a zoning ordinance. Generalized Zoning Categories (String, 255) \u2013 Link to Maryland Department of Planning Generalized Zoning Categories (word document). Jurisdiction Code (String, 4) \u2013 Four letter county code: ALLE (Allegany), ANNE (Anne Arundel), BACI (Baltimore City), BACO (Baltimore County), CALV (Calvert), CARO (Caroline), CARR (Carroll), CECI (Cecil), CHAR (Charles), DORC (Dorchester), FRED (Frederick), GARR (Garrett), HARF (Harford), HOWA (Howard), KENT (Kent), MONT (Montgomery), PRIN (Prince George\u2019s) QUEE (Queen Anne\u2019s), SOME (Somerset), STMA (St. Mary\u2019s), TALB (Talbot), WASH (Washington), WICO (Wicomico), WORC (Worcester). MUNICIPALITY_NAME (String, 50) \u2013 Name of municipality if zoning is municipal. A blank value ' ' means zoning comes from the county zoning.UPDATEYR (String, 10) \u2013 Date (YYYYMMDD) of when MDP collected the generalized zoning data from the local jurisdiction. It should be noted that this is not necessarily the same date as when the local government updated its zoning map. If the month or day is unknown, the date is YYYY0000.SOURCE (String, 255) - Link to more information.",
  "Subject": "In Maryland each local jurisdiction is responsible for its own zoning, with the exception of certain municipalities that do not exercise planning and zoning authority particularly many of the towns in Prince George\u2019s County. In larger, more developed jurisdictions there can be a hundred or more zoning categories. Because each county is uniquely different, the Maryland Department of Planning (MDP) developed a system of zoning uniformity to help state agencies and other planning stakeholders grasp the big picture. To simplify this local zoning matter for regional and state planning purposes, MDP created Generalized Zoning Categories. These categories are based on the specific zoning criteria, intent of the zone, and allowable density range for each county and all municipalities with planning and zoning authority. There are three main Generalized Zoning Categories: Rural, Residential, and Other. These three main categories are broken down even further into 11 Generalized Zoning Districts.\nDescription",
  "Category": "",
  "Version": "3.3.0",
  "AntialiasingMode": "Fast",
  "TextAntialiasingMode": "Force",
  "Keywords": "Maryland,Maryland Department of Planning,Planning,Geospatial Data and Analysis,GIS,Generalized Zoning"
 },
 "supportsQueryDomains": true,
 "capabilities": "Map,Query,Data",
 "supportedQueryFormats": "JSON, geoJSON, PBF",
 "exportTilesAllowed": false,
 "referenceScale": 0.0,
 "supportsDatumTransformation": true,
 "archivingInfo": {
  "supportsHistoricMoment": false
 },
 "supportsClipping": true,
 "supportsSpatialFilter": true,
 "supportsTimeRelation": true,
 "supportsQueryDataElements": true,
 "mapUnits": {
  "uwkid": 9001
 },
 "maxRecordCount": 2000,
 "maxImageHeight": 4096,
 "maxImageWidth": 4096,
 "supportedExtensions": "",
 "resampling": false
}
