{ "currentVersion": 11.3, "cimVersion": "3.3.0", "serviceDescription": "
The purpose of the 2010 land use/land cover data set is to provide a generalized view of how developed land has changed throughout the state, primarily capturing the conversion of resource land to development and characterizing the type of development (e.g. very low density, low density, medium density or high density residential development, commercial, industrial, institutional). <\/span><\/p> <\/p> Urban Land Uses<\/span><\/p> <\/p> 11 Low-density residential - Detached single-family/duplex dwelling units, yards and associated areas. Areas of more than 90 percent single-family/duplex dwelling units, with lot sizes of less than five acres but at least one-half acre (.2 dwelling units/acre to 2 dwelling units/acre).<\/span><\/p> <\/p> 12 Medium-density residential - Detached single-family/duplex, attached single-unit row housing, yards, and associated areas. Areas of more than 90 percent single-family/duplex units and attached single-unit row housing, with lot sizes of less than one-half acre but at least one-eighth acre (2 dwelling units/acre to 8 dwelling units/acre).<\/span><\/p> <\/p> 13 High-density residential - Attached single-unit row housing, garden apartments, high-rise apartments/condominiums, mobile home and trailer parks; areas of more than 90 percent high-density residential units, with more than 8 dwelling units per acre.<\/span><\/p> <\/p> 14 Commercial - Retail and wholesale services. Areas used primarily for the sale of products and services, including associated yards and parking areas.<\/span><\/p> <\/p> 15 Industrial - Manufacturing and industrial parks, including associated warehouses, storage yards, research laboratories, and parking areas.<\/span><\/p> <\/p> 16 Institutional - Elementary and secondary schools, middle schools, junior and senior high schools, public and private colleges and universities, military installations (built-up areas only, including buildings and storage, training, and similar areas), churches, medical and health facilities, correctional facilities, and government offices and facilities that are clearly separable from the surrounding land cover.<\/span><\/p> <\/p> 17 Extractive - Surface mining operations, including sand and gravel pits, quarries, coal surface mines, and deep coal mines. Status of activity (active vs. abandoned) is not distinguished.<\/span><\/p> <\/p> 18 Open urban land - Urban areas whose use does not require structures, or urban areas where non-conforming uses characterized by open land have become isolated. Included are golf courses, parks, recreation areas (except areas associated with schools or other institutions), cemeteries, and entrapped agricultural and undeveloped land within urban areas.<\/span><\/p> <\/p> 191 Large lot subdivision (agriculture) - Residential subdivisions with lot sizes of less than 20 acres but at least 5 acres, with a dominant land cover of open fields or pasture.<\/span><\/p> <\/p> 192 Large lot subdivision (forest) - Residential subdivisions with lot sizes of less than 20 acres but at least 5 acres, with a dominant land cover of deciduous, evergreen or mixed forest.<\/span><\/p> <\/p> Agriculture<\/span><\/p> <\/p> 21 Cropland - Field crops and forage crops.<\/span><\/p> <\/p> 22 Pasture - Land used for pasture, both permanent and rotated; grass.<\/span><\/p> <\/p> 23 Orchards/vineyards/horticulture - Areas of intensively managed commercial bush and tree crops, including areas used for fruit production, vineyards, sod and seed farms, nurseries, and green houses.<\/span><\/p> <\/p> 24 Feeding operations - Cattle feed lots, holding lots for animals, hog feeding lots, poultry houses, and commercial fishing areas (including oyster beds).<\/span><\/p> <\/p> 241 Feeding operations - Cattle feed lots, holding lots for animals, hog feeding lots, poultry houses.<\/span><\/p> <\/p> 242 Agricultural building breeding and training facilities, storage facilities, built-up areas associated with a farmstead, small farm ponds, commercial fishing areas.<\/span><\/p> <\/p> 25 Row and garden crops - Intensively managed truck and vegetable farms and associated areas.<\/span><\/p> <\/p> Forest<\/span><\/p> <\/p> 41 Deciduous forest - Forested areas in which the trees characteristically lose their leaves at the end of the growing season. Included are such species as oak, hickory, aspen, sycamore, birch, yellow poplar, elm, maple, and cypress.<\/span><\/p> <\/p> 42 Evergreen forest - Forested areas in which the trees are characterized by persistent foliage throughout the year. Included are such species as white pine, pond pine, hemlock, southern white cedar, and red pine.<\/span><\/p> <\/p> 43 Mixed forest - Forested areas in which neither deciduous nor evergreen species dominate, but in which there is a combination of both types.<\/span><\/p> <\/p> 44 Brush - Areas which do not produce timber or other wood products but may have cut-over timber stands, abandoned agriculture fields, or pasture. These areas are characterized by vegetation types such as sumac, vines, rose, brambles, and tree seedlings.<\/span><\/p> <\/p> Water<\/span><\/p> <\/p> 50 Water - Rivers, waterways, reservoirs, ponds, bays, estuaries, and ocean.<\/span><\/p> <\/p> Wetlands<\/span><\/p> <\/p> 60 Wetlands - Forested or non-forested wetlands, including tidal flats, tidal and non-tidal marshes, and upland swamps and wet areas.<\/span><\/p> <\/p> Barren Land<\/span><\/p> <\/p> 70 Barren land<\/span><\/p> <\/p> 71 Beaches - Extensive shoreline areas of sand and gravel accumulation, with no vegetative cover or other land use.<\/span><\/p> <\/p> 72 Bare exposed rock - Areas of bedrock exposure, scarps, and other natural accumulations of rock without vegetative cover.<\/span><\/p> <\/p> 73 Bare ground - Areas of exposed ground caused naturally, by construction, or by other cultural processes.<\/span><\/p> <\/p> Transportation<\/span><\/p> <\/p> 80 Transportation - Miscellaneous Transportation features not elsewhere classified.<\/span><\/p> <\/p> <\/p><\/div>",
"mapName": "LandUse_1973_2010",
"description": "The purpose of the 2010 land use/land cover data set is to provide a generalized view of how developed land has changed throughout the state, primarily capturing the conversion of resource land to development and characterizing the type of development (e.g. very low density, low density, medium density or high density residential development, commercial, industrial, institutional). Urban Land Uses11 Low-density residential - Detached single-family/duplex dwelling units, yards and associated areas. Areas of more than 90 percent single-family/duplex dwelling units, with lot sizes of less than five acres but at least one-half acre (.2 dwelling units/acre to 2 dwelling units/acre).12 Medium-density residential - Detached single-family/duplex, attached single-unit row housing, yards, and associated areas. Areas of more than 90 percent single-family/duplex units and attached single-unit row housing, with lot sizes of less than one-half acre but at least one-eighth acre (2 dwelling units/acre to 8 dwelling units/acre).13 High-density residential - Attached single-unit row housing, garden apartments, high-rise apartments/condominiums, mobile home and trailer parks; areas of more than 90 percent high-density residential units, with more than 8 dwelling units per acre.14 Commercial - Retail and wholesale services. Areas used primarily for the sale of products and services, including associated yards and parking areas.15 Industrial - Manufacturing and industrial parks, including associated warehouses, storage yards, research laboratories, and parking areas.16 Institutional - Elementary and secondary schools, middle schools, junior and senior high schools, public and private colleges and universities, military installations (built-up areas only, including buildings and storage, training, and similar areas), churches, medical and health facilities, correctional facilities, and government offices and facilities that are clearly separable from the surrounding land cover.17 Extractive - Surface mining operations, including sand and gravel pits, quarries, coal surface mines, and deep coal mines. Status of activity (active vs. abandoned) is not distinguished.18 Open urban land - Urban areas whose use does not require structures, or urban areas where non-conforming uses characterized by open land have become isolated. Included are golf courses, parks, recreation areas (except areas associated with schools or other institutions), cemeteries, and entrapped agricultural and undeveloped land within urban areas.191 Large lot subdivision (agriculture) - Residential subdivisions with lot sizes of less than 20 acres but at least 5 acres, with a dominant land cover of open fields or pasture.192 Large lot subdivision (forest) - Residential subdivisions with lot sizes of less than 20 acres but at least 5 acres, with a dominant land cover of deciduous, evergreen or mixed forest.Agriculture21 Cropland - Field crops and forage crops.22 Pasture - Land used for pasture, both permanent and rotated; grass.23 Orchards/vineyards/horticulture - Areas of intensively managed commercial bush and tree crops, including areas used for fruit production, vineyards, sod and seed farms, nurseries, and green houses.24 Feeding operations - Cattle feed lots, holding lots for animals, hog feeding lots, poultry houses, and commercial fishing areas (including oyster beds).241 Feeding operations - Cattle feed lots, holding lots for animals, hog feeding lots, poultry houses.242 Agricultural building breeding and training facilities, storage facilities, built-up areas associated with a farmstead, small farm ponds, commercial fishing areas.25 Row and garden crops - Intensively managed truck and vegetable farms and associated areas.Forest41 Deciduous forest - Forested areas in which the trees characteristically lose their leaves at the end of the growing season. Included are such species as oak, hickory, aspen, sycamore, birch, yellow poplar, elm, maple, and cypress.42 Evergreen forest - Forested areas in which the trees are characterized by persistent foliage throughout the year. Included are such species as white pine, pond pine, hemlock, southern white cedar, and red pine.43 Mixed forest - Forested areas in which neither deciduous nor evergreen species dominate, but in which there is a combination of both types.44 Brush - Areas which do not produce timber or other wood products but may have cut-over timber stands, abandoned agriculture fields, or pasture. These areas are characterized by vegetation types such as sumac, vines, rose, brambles, and tree seedlings.Water50 Water - Rivers, waterways, reservoirs, ponds, bays, estuaries, and ocean.Wetlands60 Wetlands - Forested or non-forested wetlands, including tidal flats, tidal and non-tidal marshes, and upland swamps and wet areas.Barren Land70 Barren land71 Beaches - Extensive shoreline areas of sand and gravel accumulation, with no vegetative cover or other land use.72 Bare exposed rock - Areas of bedrock exposure, scarps, and other natural accumulations of rock without vegetative cover.73 Bare ground - Areas of exposed ground caused naturally, by construction, or by other cultural processes.Transportation80 Transportation - Miscellaneous Transportation features not elsewhere classified.",
"copyrightText": "Source Imagery: 2007 National Agriculture Imagery Program (NAIP) aerial imageryProperty data information: 2008 Edition Maryland Property View",
"supportsDynamicLayers": true,
"layers": [
{
"id": 0,
"name": "County Boundary",
"parentLayerId": -1,
"defaultVisibility": true,
"subLayerIds": null,
"minScale": 0,
"maxScale": 0,
"type": "Feature Layer",
"geometryType": "esriGeometryPolygon",
"supportsDynamicLegends": true
},
{
"id": 1,
"name": "Developed Land",
"parentLayerId": -1,
"defaultVisibility": true,
"subLayerIds": null,
"minScale": 0,
"maxScale": 0,
"type": "Feature Layer",
"geometryType": "esriGeometryPolygon",
"supportsDynamicLegends": true
},
{
"id": 2,
"name": "Change in Land Use 1973 - 2010",
"parentLayerId": -1,
"defaultVisibility": true,
"subLayerIds": null,
"minScale": 0,
"maxScale": 0,
"type": "Feature Layer",
"geometryType": "esriGeometryPolygon",
"supportsDynamicLegends": true
}
],
"tables": [],
"spatialReference": {
"wkid": 26985,
"latestWkid": 26985,
"xyTolerance": 0.001,
"zTolerance": 0.001,
"mTolerance": 0.001,
"falseX": -36747100,
"falseY": -29091500,
"xyUnits": 10000,
"falseZ": 0,
"zUnits": 1,
"falseM": 0,
"mUnits": 1
},
"singleFusedMapCache": true,
"tileInfo": {
"rows": 256,
"cols": 256,
"dpi": 96,
"format": "PNG",
"compressionQuality": 0,
"origin": {
"x": -3.67469824932288E7,
"y": 3.3878631359997824E7
},
"spatialReference": {
"wkid": 26985,
"latestWkid": 26985,
"xyTolerance": 0.001,
"zTolerance": 0.001,
"mTolerance": 0.001,
"falseX": -36747100,
"falseY": -29091500,
"xyUnits": 10000,
"falseZ": 0,
"zUnits": 1,
"falseM": 0,
"mUnits": 1
},
"lods": [
{
"level": 0,
"resolution": 290210.80072835,
"scale": 1.0968597192882519E9
},
{
"level": 1,
"resolution": 145105.400364175,
"scale": 5.484298596441259E8
},
{
"level": 2,
"resolution": 72552.7001820875,
"scale": 2.7421492982206297E8
},
{
"level": 3,
"resolution": 36276.35009104375,
"scale": 1.3710746491103148E8
},
{
"level": 4,
"resolution": 18138.175045521875,
"scale": 6.855373245551574E7
},
{
"level": 5,
"resolution": 9069.087522760938,
"scale": 3.427686622775787E7
},
{
"level": 6,
"resolution": 4534.543761380469,
"scale": 1.7138433113878936E7
},
{
"level": 7,
"resolution": 2267.2718806902344,
"scale": 8569216.556939468
},
{
"level": 8,
"resolution": 1133.6359403451172,
"scale": 4284608.278469734
},
{
"level": 9,
"resolution": 566.8179701725586,
"scale": 2142304.139234867
},
{
"level": 10,
"resolution": 283.4089850862793,
"scale": 1071152.0696174335
},
{
"level": 11,
"resolution": 141.70449254313965,
"scale": 535576.0348087167
},
{
"level": 12,
"resolution": 70.85224627156983,
"scale": 267788.01740435837
},
{
"level": 13,
"resolution": 35.42612313578491,
"scale": 133894.00870217918
},
{
"level": 14,
"resolution": 17.713061567892456,
"scale": 66947.00435108959
},
{
"level": 15,
"resolution": 8.856530783946228,
"scale": 33473.502175544796
},
{
"level": 16,
"resolution": 4.428265391973114,
"scale": 16736.751087772398
},
{
"level": 17,
"resolution": 2.214132695986557,
"scale": 8368.375543886199
},
{
"level": 18,
"resolution": 1.1070663479932785,
"scale": 4184.1877719430995
}
]
},
"storageInfo": {
"storageFormat": "esriMapCacheStorageModeCompactV2",
"packetSize": 128
},
"initialExtent": {
"xmin": 11686.33159792039,
"ymin": -29687.197496907174,
"xmax": 719947.4539877173,
"ymax": 491303.15261835407,
"spatialReference": {
"wkid": 26985,
"latestWkid": 26985,
"xyTolerance": 0.001,
"zTolerance": 0.001,
"mTolerance": 0.001,
"falseX": -36747100,
"falseY": -29091500,
"xyUnits": 10000,
"falseZ": 0,
"zUnits": 1,
"falseM": 0,
"mUnits": 1
}
},
"fullExtent": {
"xmin": 185190.90630000085,
"ymin": 25172.859400000423,
"xmax": 575092.6877999976,
"ymax": 230970.70309999958,
"spatialReference": {
"wkid": 26985,
"latestWkid": 26985,
"xyTolerance": 0.001,
"zTolerance": 0.001,
"mTolerance": 0.001,
"falseX": -36747100,
"falseY": -29091500,
"xyUnits": 10000,
"falseZ": 0,
"zUnits": 1,
"falseM": 0,
"mUnits": 1
}
},
"datesInUnknownTimezone": false,
"minScale": 4284608.278469734,
"maxScale": 8368.375543886199,
"minLOD": 8,
"maxLOD": 17,
"units": "esriMeters",
"supportedImageFormatTypes": "PNG32,PNG24,PNG,JPG,DIB,TIFF,EMF,PS,PDF,GIF,SVG,SVGZ,BMP",
"documentInfo": {
"Title": "LandUse_1973_2010",
"Author": "",
"Comments": "The purpose of the 2010 land use/land cover data set is to provide a generalized view of how developed land has changed throughout the state, primarily capturing the conversion of resource land to development and characterizing the type of development (e.g. very low density, low density, medium density or high density residential development, commercial, industrial, institutional). Urban Land Uses11 Low-density residential - Detached single-family/duplex dwelling units, yards and associated areas. Areas of more than 90 percent single-family/duplex dwelling units, with lot sizes of less than five acres but at least one-half acre (.2 dwelling units/acre to 2 dwelling units/acre).12 Medium-density residential - Detached single-family/duplex, attached single-unit row housing, yards, and associated areas. Areas of more than 90 percent single-family/duplex units and attached single-unit row housing, with lot sizes of less than one-half acre but at least one-eighth acre (2 dwelling units/acre to 8 dwelling units/acre).13 High-density residential - Attached single-unit row housing, garden apartments, high-rise apartments/condominiums, mobile home and trailer parks; areas of more than 90 percent high-density residential units, with more than 8 dwelling units per acre.14 Commercial - Retail and wholesale services. Areas used primarily for the sale of products and services, including associated yards and parking areas.15 Industrial - Manufacturing and industrial parks, including associated warehouses, storage yards, research laboratories, and parking areas.16 Institutional - Elementary and secondary schools, middle schools, junior and senior high schools, public and private colleges and universities, military installations (built-up areas only, including buildings and storage, training, and similar areas), churches, medical and health facilities, correctional facilities, and government offices and facilities that are clearly separable from the surrounding land cover.17 Extractive - Surface mining operations, including sand and gravel pits, quarries, coal surface mines, and deep coal mines. Status of activity (active vs. abandoned) is not distinguished.18 Open urban land - Urban areas whose use does not require structures, or urban areas where non-conforming uses characterized by open land have become isolated. Included are golf courses, parks, recreation areas (except areas associated with schools or other institutions), cemeteries, and entrapped agricultural and undeveloped land within urban areas.191 Large lot subdivision (agriculture) - Residential subdivisions with lot sizes of less than 20 acres but at least 5 acres, with a dominant land cover of open fields or pasture.192 Large lot subdivision (forest) - Residential subdivisions with lot sizes of less than 20 acres but at least 5 acres, with a dominant land cover of deciduous, evergreen or mixed forest.Agriculture21 Cropland - Field crops and forage crops.22 Pasture - Land used for pasture, both permanent and rotated; grass.23 Orchards/vineyards/horticulture - Areas of intensively managed commercial bush and tree crops, including areas used for fruit production, vineyards, sod and seed farms, nurseries, and green houses.24 Feeding operations - Cattle feed lots, holding lots for animals, hog feeding lots, poultry houses, and commercial fishing areas (including oyster beds).241 Feeding operations - Cattle feed lots, holding lots for animals, hog feeding lots, poultry houses.242 Agricultural building breeding and training facilities, storage facilities, built-up areas associated with a farmstead, small farm ponds, commercial fishing areas.25 Row and garden crops - Intensively managed truck and vegetable farms and associated areas.Forest41 Deciduous forest - Forested areas in which the trees characteristically lose their leaves at the end of the growing season. Included are such species as oak, hickory, aspen, sycamore, birch, yellow poplar, elm, maple, and cypress.42 Evergreen forest - Forested areas in which the trees are characterized by persistent foliage throughout the year. Included are such species as white pine, pond pine, hemlock, southern white cedar, and red pine.43 Mixed forest - Forested areas in which neither deciduous nor evergreen species dominate, but in which there is a combination of both types.44 Brush - Areas which do not produce timber or other wood products but may have cut-over timber stands, abandoned agriculture fields, or pasture. These areas are characterized by vegetation types such as sumac, vines, rose, brambles, and tree seedlings.Water50 Water - Rivers, waterways, reservoirs, ponds, bays, estuaries, and ocean.Wetlands60 Wetlands - Forested or non-forested wetlands, including tidal flats, tidal and non-tidal marshes, and upland swamps and wet areas.Barren Land70 Barren land71 Beaches - Extensive shoreline areas of sand and gravel accumulation, with no vegetative cover or other land use.72 Bare exposed rock - Areas of bedrock exposure, scarps, and other natural accumulations of rock without vegetative cover.73 Bare ground - Areas of exposed ground caused naturally, by construction, or by other cultural processes.Transportation80 Transportation - Miscellaneous Transportation features not elsewhere classified.",
"Subject": "This dataset uses the Anderson Level 2 Classification System to display land use/land cover for each Maryland County and Baltimore City. Initially developed using high altitude aerial photography and satellite imagery. For 2010 publication date product, land cover types were updated using 2007 National Agriculture Imagery Program (NAIP) aerial imagery and parcel information from the 2008 Edition of MDProperty View. The primary purpose of the data set is to display generalized land use / land cover to support planning, economic development, transportation and environmental mapping efforts in Maryland.",
"Category": "",
"Version": "3.3.0",
"AntialiasingMode": "Fast",
"TextAntialiasingMode": "Force",
"Keywords": "Maryland,Land Use,1973,2010"
},
"supportsQueryDomains": true,
"capabilities": "Map,Query,Data",
"supportedQueryFormats": "JSON, geoJSON, PBF",
"exportTilesAllowed": false,
"referenceScale": 0.0,
"datumTransformations": [
{
"geoTransforms": [
{
"wkid": 108001,
"latestWkid": 1241,
"transformForward": true,
"name": "NAD_1927_To_NAD_1983_NADCON"
}
]
},
{
"geoTransforms": [
{
"wkid": 108001,
"latestWkid": 1241,
"transformForward": false,
"name": "NAD_1927_To_NAD_1983_NADCON"
}
]
}
],
"supportsDatumTransformation": true,
"floorAwareMapProperties": {
"defaultFloorFilterSettings": {"isEnabled": false}
},
"archivingInfo": {"supportsHistoricMoment": false},
"supportsClipping": true,
"supportsSpatialFilter": true,
"supportsTimeRelation": true,
"supportsQueryDataElements": true,
"mapUnits": {"uwkid": 9001},
"maxRecordCount": 2000,
"maxImageHeight": 4096,
"maxImageWidth": 4096,
"supportedExtensions": "",
"resampling": false
}