{ "currentVersion": 11.3, "cimVersion": "3.3.0", "serviceDescription": "
CPFA (Certified PFA): If field is populated as \u201cIN\u201d then the PFA has been designated at a Priority Funding Area locally. <\/span><\/p> <\/p> Rural Village Code (RUVI_CODE): RV = within a Rural Village<\/span><\/p> <\/p> Rural Village Name (RUVI_NAME): Name of the Rural Village<\/span><\/p> <\/p> JURSCODE (Jurisdiction Code) \u2013 Four letter county code: ALLE (Allegany), ANNE (Anne Arundel), BACI (Baltimore City), BACO (Baltimore County), CALV (Calvert), CARO (Caroline), CARR (Carroll), CECI (Cecil), CHAR (Charles), DORC (Dorchester), FRED (Frederick), GARR (Garrett), HARF (Harford), HOWA (Howard), KENT (Kent), MONT (Montgomery), PRIN (Prince George\u2019s) QUEE (Queen Anne\u2019s), SOME (Somerset), STMA (St. Mary\u2019s), TALB (Talbot), WASH (Washington), WICO (Wicomico), WORC (Worcester).<\/span><\/p> <\/p> STATE_ELIGIBLE_STATUS (State Eligible): This field is based on whether the PFA has a comment. If there is no comment, then the field will be populated with YES; if there is a state-placed comment, the field will be populated with NO. <\/span><\/p><\/div><\/div><\/div>",
"mapName": "Rural_Villages",
"description": "CPFA (Certified PFA): If field is populated as \u201cIN\u201d then the PFA has been designated at a Priority Funding Area locally. Rural Village Code (RUVI_CODE): RV = within a Rural VillageRural Village Name (RUVI_NAME): Name of the Rural VillageJURSCODE (Jurisdiction Code) \u2013 Four letter county code: ALLE (Allegany), ANNE (Anne Arundel), BACI (Baltimore City), BACO (Baltimore County), CALV (Calvert), CARO (Caroline), CARR (Carroll), CECI (Cecil), CHAR (Charles), DORC (Dorchester), FRED (Frederick), GARR (Garrett), HARF (Harford), HOWA (Howard), KENT (Kent), MONT (Montgomery), PRIN (Prince George\u2019s) QUEE (Queen Anne\u2019s), SOME (Somerset), STMA (St. Mary\u2019s), TALB (Talbot), WASH (Washington), WICO (Wicomico), WORC (Worcester).STATE_ELIGIBLE_STATUS (State Eligible): This field is based on whether the PFA has a comment. If there is no comment, then the field will be populated with YES; if there is a state-placed comment, the field will be populated with NO. ",
"copyrightText": "Maryland Department of Planning, MDP",
"supportsDynamicLayers": true,
"layers": [
{
"id": 0,
"name": "Rural Villages",
"parentLayerId": -1,
"defaultVisibility": true,
"subLayerIds": null,
"minScale": 0,
"maxScale": 0,
"type": "Feature Layer",
"geometryType": "esriGeometryPolygon",
"supportsDynamicLegends": true
}
],
"tables": [],
"spatialReference": {
"wkid": 102100,
"latestWkid": 3857,
"xyTolerance": 0.001,
"zTolerance": 0.001,
"mTolerance": 0.001,
"falseX": -20037700,
"falseY": -30241100,
"xyUnits": 10000,
"falseZ": -100000,
"zUnits": 10000,
"falseM": -100000,
"mUnits": 10000
},
"singleFusedMapCache": true,
"tileInfo": {
"rows": 256,
"cols": 256,
"dpi": 96,
"format": "PNG",
"compressionQuality": 0,
"origin": {
"x": -2.0037508342787E7,
"y": 2.0037508342787E7
},
"spatialReference": {
"wkid": 102100,
"latestWkid": 3857,
"xyTolerance": 0.001,
"zTolerance": 0.001,
"mTolerance": 0.001,
"falseX": -20037700,
"falseY": -30241100,
"xyUnits": 1.4892314192838538E8,
"falseZ": -100000,
"zUnits": 10000,
"falseM": -100000,
"mUnits": 10000
},
"lods": [
{
"level": 0,
"resolution": 156543.033928,
"scale": 5.91657527591555E8
},
{
"level": 1,
"resolution": 78271.5169639999,
"scale": 2.95828763795777E8
},
{
"level": 2,
"resolution": 39135.7584820001,
"scale": 1.47914381897889E8
},
{
"level": 3,
"resolution": 19567.8792409999,
"scale": 7.3957190948944E7
},
{
"level": 4,
"resolution": 9783.93962049996,
"scale": 3.6978595474472E7
},
{
"level": 5,
"resolution": 4891.96981024998,
"scale": 1.8489297737236E7
},
{
"level": 6,
"resolution": 2445.98490512499,
"scale": 9244648.868618
},
{
"level": 7,
"resolution": 1222.99245256249,
"scale": 4622324.434309
},
{
"level": 8,
"resolution": 611.49622628138,
"scale": 2311162.217155
},
{
"level": 9,
"resolution": 305.748113140558,
"scale": 1155581.108577
},
{
"level": 10,
"resolution": 152.874056570411,
"scale": 577790.554289
},
{
"level": 11,
"resolution": 76.4370282850732,
"scale": 288895.277144
},
{
"level": 12,
"resolution": 38.2185141425366,
"scale": 144447.638572
},
{
"level": 13,
"resolution": 19.1092570712683,
"scale": 72223.819286
},
{
"level": 14,
"resolution": 9.55462853563415,
"scale": 36111.909643
},
{
"level": 15,
"resolution": 4.77731426794937,
"scale": 18055.954822
},
{
"level": 16,
"resolution": 2.38865713397468,
"scale": 9027.977411
},
{
"level": 17,
"resolution": 1.19432856685505,
"scale": 4513.988705
},
{
"level": 18,
"resolution": 0.597164283559817,
"scale": 2256.994353
},
{
"level": 19,
"resolution": 0.298582141647617,
"scale": 1128.497176
},
{
"level": 20,
"resolution": 0.14929107082380833,
"scale": 564.248588
},
{
"level": 21,
"resolution": 0.07464553541190416,
"scale": 282.124294
},
{
"level": 22,
"resolution": 0.03732276770595208,
"scale": 141.062147
},
{
"level": 23,
"resolution": 0.01866138385297604,
"scale": 70.5310735
}
]
},
"storageInfo": {
"storageFormat": "esriMapCacheStorageModeCompactV2",
"packetSize": 128
},
"initialExtent": {
"xmin": -8849395.732414499,
"ymin": 4537509.387731044,
"xmax": -8418944.421724688,
"ymax": 4886743.469988814,
"spatialReference": {
"wkid": 102100,
"latestWkid": 3857,
"xyTolerance": 0.001,
"zTolerance": 0.001,
"mTolerance": 0.001,
"falseX": -20037700,
"falseY": -30241100,
"xyUnits": 10000,
"falseZ": -100000,
"zUnits": 10000,
"falseM": -100000,
"mUnits": 10000
}
},
"fullExtent": {
"xmin": -8848033.2972,
"ymin": 4573281.466200002,
"xmax": -8354485.2333,
"ymax": 4825780.984300002,
"spatialReference": {
"wkid": 102100,
"latestWkid": 3857,
"xyTolerance": 0.001,
"zTolerance": 0.001,
"mTolerance": 0.001,
"falseX": -20037700,
"falseY": -30241100,
"xyUnits": 10000,
"falseZ": -100000,
"zUnits": 10000,
"falseM": -100000,
"mUnits": 10000
}
},
"datesInUnknownTimezone": false,
"minScale": 1155581.108577,
"maxScale": 18055.954822,
"minLOD": 9,
"maxLOD": 15,
"units": "esriMeters",
"supportedImageFormatTypes": "PNG32,PNG24,PNG,JPG,DIB,TIFF,EMF,PS,PDF,GIF,SVG,SVGZ,BMP",
"documentInfo": {
"Title": "Rural Villages",
"Author": "",
"Comments": "CPFA (Certified PFA): If field is populated as \u201cIN\u201d then the PFA has been designated at a Priority Funding Area locally. Rural Village Code (RUVI_CODE): RV = within a Rural VillageRural Village Name (RUVI_NAME): Name of the Rural VillageJURSCODE (Jurisdiction Code) \u2013 Four letter county code: ALLE (Allegany), ANNE (Anne Arundel), BACI (Baltimore City), BACO (Baltimore County), CALV (Calvert), CARO (Caroline), CARR (Carroll), CECI (Cecil), CHAR (Charles), DORC (Dorchester), FRED (Frederick), GARR (Garrett), HARF (Harford), HOWA (Howard), KENT (Kent), MONT (Montgomery), PRIN (Prince George\u2019s) QUEE (Queen Anne\u2019s), SOME (Somerset), STMA (St. Mary\u2019s), TALB (Talbot), WASH (Washington), WICO (Wicomico), WORC (Worcester).STATE_ELIGIBLE_STATUS (State Eligible): This field is based on whether the PFA has a comment. If there is no comment, then the field will be populated with YES; if there is a state-placed comment, the field will be populated with NO. ",
"Subject": "Maryland Department of Planning (MDP) maps Rural Villages for the State of Maryland. This dataset is created and maintained by the Maryland Department of Planning.",
"Category": "",
"Version": "3.3.0",
"AntialiasingMode": "Fast",
"TextAntialiasingMode": "Force",
"Keywords": ""
},
"supportsQueryDomains": true,
"capabilities": "Query,Map,Data",
"supportedQueryFormats": "JSON, geoJSON, PBF",
"exportTilesAllowed": false,
"referenceScale": 0.0,
"datumTransformations": [
{
"geoTransforms": [
{
"wkid": 108190,
"latestWkid": 108190,
"transformForward": true,
"name": "WGS_1984_(ITRF00)_To_NAD_1983"
}
]
},
{
"geoTransforms": [
{
"wkid": 108190,
"latestWkid": 108190,
"transformForward": false,
"name": "WGS_1984_(ITRF00)_To_NAD_1983"
}
]
}
],
"supportsDatumTransformation": true,
"archivingInfo": {"supportsHistoricMoment": false},
"supportsClipping": true,
"supportsSpatialFilter": true,
"supportsTimeRelation": true,
"supportsQueryDataElements": true,
"mapUnits": {"uwkid": 9001},
"maxRecordCount": 2000,
"maxImageHeight": 4096,
"maxImageWidth": 4096,
"supportedExtensions": ""
}