{ "currentVersion": 11.3, "cimVersion": "3.3.0", "serviceDescription": "
This GIS dataset contains growth tier maps adopted by local (county and municipal) jurisdictions under SB236. Data are generally collected from local jurisdictions by the Maryland Department of Planning (MDP) or digitized by MDP in coordination with local jurisdictions. For more information about SB236, see MDP\u2019s Septics Law Implementation Website at https://planning.maryland.gov/Pages/OurWork/RRP/envr-planning/SB236Implementation.aspx. MDP generally requests updated GIS data once a jurisdiction notifies MDP that a growth tier map has been amended. Aggregated data may be outdated or incomplete if MDP has not yet received or processed GIS updates from jurisdictions. MDP does not have GIS data for all municipal tier maps. MDP generally does not alter geometries received from the local jurisdictions except to divide municipal tiers at the county boundary. This dataset may contain overlap where multiple jurisdictions designate tiers in the same area. Only the adopted tier maps, as depicted in county or municipal legal documents, are the official tier maps. To ensure correct interpretation of this dataset, users should review column (attribute) descriptions in the metadata file.<\/span><\/p> <\/p> Fields include: <\/span><\/p> <\/p> Acres (GIS Acres) \u2013 GIS acres calculated by Planning in NAD83 Meters (EPSG 26985) <\/span><\/p> <\/p> County \u2013 Full name of the jurisdiction represented by the JURSCODE.<\/span><\/p> <\/p> TIER_CODE (Tier Code)\u2013 Integer field containing the growth tier standardized by MDP: 1 (Tier I); 11 (Tier IA or any other annotated version of Tier I, such as IB, etc.); 2 (Tier II), 22 (Tier IIA or any other annotated version of Tier II, such as IIB, etc.); 3 (Tier III); 4 (Tier IV); 44 (Areas annotated as Tier IVA for municipal greenbelts or any other annotated version of Tier IV); 99 \u2013 Areas included in the jurisdiction\u2019s growth tier GIS data that are not assigned a tier, such as rights-of-way or water. <\/span><\/p> <\/p> JURSCODE (County Code)\u2013 Four letter county code or Baltimore City code. For tiers designated by counties, this is the jurisdiction responsible for designating the growth tier. For tiers designated by municipalities, this is the jurisdiction in which the growth tier is physically located. Municipal tiers that cross counties are divided at the county boundary so this field can be populated. See the MUNI field for the municipality responsible for designating a municipal tier. ALLE (Allegany), ANNE (Anne Arundel), BACI (Baltimore City), BACO (Baltimore County), CALV (Calvert), CARO (Caroline), CARR (Carroll), CECI (Cecil), CHAR (Charles), DORC (Dorchester), FRED (Frederick), GARR (Garrett), HARF (Harford), HOWA (Howard), KENT (Kent), MONT (Montgomery), PRIN (Prince George\u2019s) QUEE (Queen Anne\u2019s), SOME (Somerset), STMA (St. Mary\u2019s), TALB (Talbot), WASH (Washington), WICO (Wicomico), WORC (Worcester).<\/span><\/p> <\/p> Adopt_Date (Adoption Date)\u2013 Date growth tier map was adopted or amended. When a local jurisdiction updates its growth tier map, MDP generally requests a comprehensive GIS update to replace all existing data for the jurisdiction. <\/span><\/p> <\/p> MUNI (Municipality)\u2013 The name of the municipality responsible for designating the tier. This field will be blank (\u2018 \u2018) if the tier has been designated by a county. The MUNI field is formatted consistently with municipality names in the MDP\u2019s municipal boundary datasets. When municipalities adopt tier maps by concurring with county tiers instead of submitting tier data independently, the MUNI field remains blank within the entire county tier map dataset. Depending on internal needs, an independent municipal tier dataset may or may not be generated by MDP and included within the aggregated tiers. <\/span><\/p> <\/p> TIER (Tier)\u2013 Growth tier identifier used by the source jurisdiction and standardized as Tier 1, Tier 1A, Tier 2, Tier 2A, Tier 3, and Tier 4. May include additional alphabetical annotations used by the jurisdictions such as Tier 2B. If the TIER_CODE field is 99, the TIER field retains the descriptor provided by the jurisdiction, which may be a blank or null value. <\/span><\/p> <\/p> GIS_SRC (Source) \u2013 The original source of the GIS spatial and attribute information MDP obtained, which concatenates the JURSCODE field (or MUNI field for municipal tier maps), followed by a space, followed by the name of the shapefile or feature class received from the jurisdiction. Field contains \u201cMDP\u201d if tiers were digitized by MDP, and is blank (\u2018 \u2018) for historical data. <\/span><\/p> <\/p> SRC_DATE (Source Date) \u2013 The date (YYYYMMDD) the GIS data were obtained by Planning from the local jurisdiction. If the month or day is unknown, the date is YYYY0000. If MDP digitized the growth tier map in coordination with a local jurisdiction, this should be the date MDP\u2019s edits are verified by the jurisdiction. This field will be blank (\u2018 \u2019) if MDP\u2019s edits have not been verified or if the dataset is historical and the source is unknown. <\/span><\/p> <\/p> NOTE (Notes)\u2013 Text field containing additional notes about the data.<\/span><\/p> <\/p> Disclaimer: The Maryland Department of Planning cannot guarantee the accuracy of the information contained in this resource. Each user is responsible for determining its suitability for his or her intended use or purpose. The Maryland Department of Planning or the State of Maryland has no liability from any damages or interpretations caused by this resource. Any errors or omissions should be reported to Deborah Sward at deborah.sward@maryland.gov.<\/span><\/p> <\/p> Date Last Updated: June 2026<\/span><\/p><\/div><\/div><\/div>",
"mapName": "Septic_Growth_Tiers",
"description": "This GIS dataset contains growth tier maps adopted by local (county and municipal) jurisdictions under SB236. Data are generally collected from local jurisdictions by the Maryland Department of Planning (MDP) or digitized by MDP in coordination with local jurisdictions. For more information about SB236, see MDP\u2019s Septics Law Implementation Website at https://planning.maryland.gov/Pages/OurWork/RRP/envr-planning/SB236Implementation.aspx. MDP generally requests updated GIS data once a jurisdiction notifies MDP that a growth tier map has been amended. Aggregated data may be outdated or incomplete if MDP has not yet received or processed GIS updates from jurisdictions. MDP does not have GIS data for all municipal tier maps. MDP generally does not alter geometries received from the local jurisdictions except to divide municipal tiers at the county boundary. This dataset may contain overlap where multiple jurisdictions designate tiers in the same area. Only the adopted tier maps, as depicted in county or municipal legal documents, are the official tier maps. To ensure correct interpretation of this dataset, users should review column (attribute) descriptions in the metadata file.Fields include: Acres (GIS Acres) \u2013 GIS acres calculated by Planning in NAD83 Meters (EPSG 26985) County \u2013 Full name of the jurisdiction represented by the JURSCODE.TIER_CODE (Tier Code)\u2013 Integer field containing the growth tier standardized by MDP: 1 (Tier I); 11 (Tier IA or any other annotated version of Tier I, such as IB, etc.); 2 (Tier II), 22 (Tier IIA or any other annotated version of Tier II, such as IIB, etc.); 3 (Tier III); 4 (Tier IV); 44 (Areas annotated as Tier IVA for municipal greenbelts or any other annotated version of Tier IV); 99 \u2013 Areas included in the jurisdiction\u2019s growth tier GIS data that are not assigned a tier, such as rights-of-way or water. JURSCODE (County Code)\u2013 Four letter county code or Baltimore City code. For tiers designated by counties, this is the jurisdiction responsible for designating the growth tier. For tiers designated by municipalities, this is the jurisdiction in which the growth tier is physically located. Municipal tiers that cross counties are divided at the county boundary so this field can be populated. See the MUNI field for the municipality responsible for designating a municipal tier. ALLE (Allegany), ANNE (Anne Arundel), BACI (Baltimore City), BACO (Baltimore County), CALV (Calvert), CARO (Caroline), CARR (Carroll), CECI (Cecil), CHAR (Charles), DORC (Dorchester), FRED (Frederick), GARR (Garrett), HARF (Harford), HOWA (Howard), KENT (Kent), MONT (Montgomery), PRIN (Prince George\u2019s) QUEE (Queen Anne\u2019s), SOME (Somerset), STMA (St. Mary\u2019s), TALB (Talbot), WASH (Washington), WICO (Wicomico), WORC (Worcester).Adopt_Date (Adoption Date)\u2013 Date growth tier map was adopted or amended. When a local jurisdiction updates its growth tier map, MDP generally requests a comprehensive GIS update to replace all existing data for the jurisdiction. MUNI (Municipality)\u2013 The name of the municipality responsible for designating the tier. This field will be blank (\u2018 \u2018) if the tier has been designated by a county. The MUNI field is formatted consistently with municipality names in the MDP\u2019s municipal boundary datasets. When municipalities adopt tier maps by concurring with county tiers instead of submitting tier data independently, the MUNI field remains blank within the entire county tier map dataset. Depending on internal needs, an independent municipal tier dataset may or may not be generated by MDP and included within the aggregated tiers. TIER (Tier)\u2013 Growth tier identifier used by the source jurisdiction and standardized as Tier 1, Tier 1A, Tier 2, Tier 2A, Tier 3, and Tier 4. May include additional alphabetical annotations used by the jurisdictions such as Tier 2B. If the TIER_CODE field is 99, the TIER field retains the descriptor provided by the jurisdiction, which may be a blank or null value. GIS_SRC (Source) \u2013 The original source of the GIS spatial and attribute information MDP obtained, which concatenates the JURSCODE field (or MUNI field for municipal tier maps), followed by a space, followed by the name of the shapefile or feature class received from the jurisdiction. Field contains \u201cMDP\u201d if tiers were digitized by MDP, and is blank (\u2018 \u2018) for historical data. SRC_DATE (Source Date) \u2013 The date (YYYYMMDD) the GIS data were obtained by Planning from the local jurisdiction. If the month or day is unknown, the date is YYYY0000. If MDP digitized the growth tier map in coordination with a local jurisdiction, this should be the date MDP\u2019s edits are verified by the jurisdiction. This field will be blank (\u2018 \u2019) if MDP\u2019s edits have not been verified or if the dataset is historical and the source is unknown. NOTE (Notes)\u2013 Text field containing additional notes about the data.Disclaimer: The Maryland Department of Planning cannot guarantee the accuracy of the information contained in this resource. Each user is responsible for determining its suitability for his or her intended use or purpose. The Maryland Department of Planning or the State of Maryland has no liability from any damages or interpretations caused by this resource. Any errors or omissions should be reported to Deborah Sward at deborah.sward@maryland.gov.Date Last Updated: June 2026",
"copyrightText": "Maryland Department of Planning, MDP",
"supportsDynamicLayers": false,
"layers": [
{
"id": 0,
"name": "Septic_Growth_Tiers",
"parentLayerId": -1,
"defaultVisibility": true,
"subLayerIds": null,
"minScale": 0,
"maxScale": 0,
"type": "Feature Layer",
"geometryType": "esriGeometryPolygon",
"supportsDynamicLegends": true
}
],
"tables": [],
"spatialReference": {
"wkid": 102100,
"latestWkid": 3857,
"xyTolerance": 0.001,
"zTolerance": 0.001,
"mTolerance": 0.001,
"falseX": -20037700,
"falseY": -30241100,
"xyUnits": 10000,
"falseZ": -100000,
"zUnits": 10000,
"falseM": -100000,
"mUnits": 10000
},
"singleFusedMapCache": true,
"tileInfo": {
"rows": 256,
"cols": 256,
"dpi": 96,
"format": "PNG",
"compressionQuality": 0,
"origin": {
"x": -2.0037508342787E7,
"y": 2.0037508342787E7
},
"spatialReference": {
"wkid": 102100,
"latestWkid": 3857,
"xyTolerance": 0.001,
"zTolerance": 0.001,
"mTolerance": 0.001,
"falseX": -20037700,
"falseY": -30241100,
"xyUnits": 1.4892314192838538E8,
"falseZ": -100000,
"zUnits": 10000,
"falseM": -100000,
"mUnits": 10000
},
"lods": [
{
"level": 0,
"resolution": 156543.033928,
"scale": 5.91657527591555E8
},
{
"level": 1,
"resolution": 78271.5169639999,
"scale": 2.95828763795777E8
},
{
"level": 2,
"resolution": 39135.7584820001,
"scale": 1.47914381897889E8
},
{
"level": 3,
"resolution": 19567.8792409999,
"scale": 7.3957190948944E7
},
{
"level": 4,
"resolution": 9783.93962049996,
"scale": 3.6978595474472E7
},
{
"level": 5,
"resolution": 4891.96981024998,
"scale": 1.8489297737236E7
},
{
"level": 6,
"resolution": 2445.98490512499,
"scale": 9244648.868618
},
{
"level": 7,
"resolution": 1222.99245256249,
"scale": 4622324.434309
},
{
"level": 8,
"resolution": 611.49622628138,
"scale": 2311162.217155
},
{
"level": 9,
"resolution": 305.748113140558,
"scale": 1155581.108577
},
{
"level": 10,
"resolution": 152.874056570411,
"scale": 577790.554289
},
{
"level": 11,
"resolution": 76.4370282850732,
"scale": 288895.277144
},
{
"level": 12,
"resolution": 38.2185141425366,
"scale": 144447.638572
},
{
"level": 13,
"resolution": 19.1092570712683,
"scale": 72223.819286
},
{
"level": 14,
"resolution": 9.55462853563415,
"scale": 36111.909643
},
{
"level": 15,
"resolution": 4.77731426794937,
"scale": 18055.954822
},
{
"level": 16,
"resolution": 2.38865713397468,
"scale": 9027.977411
},
{
"level": 17,
"resolution": 1.19432856685505,
"scale": 4513.988705
},
{
"level": 18,
"resolution": 0.597164283559817,
"scale": 2256.994353
},
{
"level": 19,
"resolution": 0.298582141647617,
"scale": 1128.497176
},
{
"level": 20,
"resolution": 0.14929107082380833,
"scale": 564.248588
},
{
"level": 21,
"resolution": 0.07464553541190416,
"scale": 282.124294
},
{
"level": 22,
"resolution": 0.03732276770595208,
"scale": 141.062147
},
{
"level": 23,
"resolution": 0.01866138385297604,
"scale": 70.5310735
}
]
},
"storageInfo": {
"storageFormat": "esriMapCacheStorageModeCompactV2",
"packetSize": 128
},
"initialExtent": {
"xmin": -8797844.475200184,
"ymin": 4532297.748638104,
"xmax": -8432311.83682593,
"ymax": 4881717.487335912,
"spatialReference": {
"wkid": 102100,
"latestWkid": 3857,
"xyTolerance": 0.001,
"zTolerance": 0.001,
"mTolerance": 0.001,
"falseX": -20037700,
"falseY": -30241100,
"xyUnits": 10000,
"falseZ": -100000,
"zUnits": 10000,
"falseM": -100000,
"mUnits": 10000
}
},
"fullExtent": {
"xmin": -8848481.9896,
"ymin": 4567006.1586000025,
"xmax": -8354448.790200001,
"ymax": 4826373.5967999995,
"spatialReference": {
"wkid": 102100,
"latestWkid": 3857,
"xyTolerance": 0.001,
"zTolerance": 0.001,
"mTolerance": 0.001,
"falseX": -20037700,
"falseY": -30241100,
"xyUnits": 10000,
"falseZ": -100000,
"zUnits": 10000,
"falseM": -100000,
"mUnits": 10000
}
},
"datesInUnknownTimezone": false,
"minScale": 4622324.434309,
"maxScale": 72223.819286,
"units": "esriMeters",
"supportedImageFormatTypes": "PNG32,PNG24,PNG,JPG,DIB,TIFF,EMF,PS,PDF,GIF,SVG,SVGZ,BMP",
"documentInfo": {
"Title": "PLAN_Septic_Growth_Tiers_MD",
"Author": "",
"Comments": "This GIS dataset contains growth tier maps adopted by local (county and municipal) jurisdictions under SB236. Data are generally collected from local jurisdictions by the Maryland Department of Planning (MDP) or digitized by MDP in coordination with local jurisdictions. For more information about SB236, see MDP\u2019s Septics Law Implementation Website at https://planning.maryland.gov/Pages/OurWork/RRP/envr-planning/SB236Implementation.aspx. MDP generally requests updated GIS data once a jurisdiction notifies MDP that a growth tier map has been amended. Aggregated data may be outdated or incomplete if MDP has not yet received or processed GIS updates from jurisdictions. MDP does not have GIS data for all municipal tier maps. MDP generally does not alter geometries received from the local jurisdictions except to divide municipal tiers at the county boundary. This dataset may contain overlap where multiple jurisdictions designate tiers in the same area. Only the adopted tier maps, as depicted in county or municipal legal documents, are the official tier maps. To ensure correct interpretation of this dataset, users should review column (attribute) descriptions in the metadata file.Fields include: Acres (GIS Acres) \u2013 GIS acres calculated by Planning in NAD83 Meters (EPSG 26985) County \u2013 Full name of the jurisdiction represented by the JURSCODE.TIER_CODE (Tier Code)\u2013 Integer field containing the growth tier standardized by MDP: 1 (Tier I); 11 (Tier IA or any other annotated version of Tier I, such as IB, etc.); 2 (Tier II), 22 (Tier IIA or any other annotated version of Tier II, such as IIB, etc.); 3 (Tier III); 4 (Tier IV); 44 (Areas annotated as Tier IVA for municipal greenbelts or any other annotated version of Tier IV); 99 \u2013 Areas included in the jurisdiction\u2019s growth tier GIS data that are not assigned a tier, such as rights-of-way or water. JURSCODE (County Code)\u2013 Four letter county code or Baltimore City code. For tiers designated by counties, this is the jurisdiction responsible for designating the growth tier. For tiers designated by municipalities, this is the jurisdiction in which the growth tier is physically located. Municipal tiers that cross counties are divided at the county boundary so this field can be populated. See the MUNI field for the municipality responsible for designating a municipal tier. ALLE (Allegany), ANNE (Anne Arundel), BACI (Baltimore City), BACO (Baltimore County), CALV (Calvert), CARO (Caroline), CARR (Carroll), CECI (Cecil), CHAR (Charles), DORC (Dorchester), FRED (Frederick), GARR (Garrett), HARF (Harford), HOWA (Howard), KENT (Kent), MONT (Montgomery), PRIN (Prince George\u2019s) QUEE (Queen Anne\u2019s), SOME (Somerset), STMA (St. Mary\u2019s), TALB (Talbot), WASH (Washington), WICO (Wicomico), WORC (Worcester).Adopt_Date (Adoption Date)\u2013 Date growth tier map was adopted or amended. When a local jurisdiction updates its growth tier map, MDP generally requests a comprehensive GIS update to replace all existing data for the jurisdiction. MUNI (Municipality)\u2013 The name of the municipality responsible for designating the tier. This field will be blank (\u2018 \u2018) if the tier has been designated by a county. The MUNI field is formatted consistently with municipality names in the MDP\u2019s municipal boundary datasets. When municipalities adopt tier maps by concurring with county tiers instead of submitting tier data independently, the MUNI field remains blank within the entire county tier map dataset. Depending on internal needs, an independent municipal tier dataset may or may not be generated by MDP and included within the aggregated tiers. TIER (Tier)\u2013 Growth tier identifier used by the source jurisdiction and standardized as Tier 1, Tier 1A, Tier 2, Tier 2A, Tier 3, and Tier 4. May include additional alphabetical annotations used by the jurisdictions such as Tier 2B. If the TIER_CODE field is 99, the TIER field retains the descriptor provided by the jurisdiction, which may be a blank or null value. GIS_SRC (Source) \u2013 The original source of the GIS spatial and attribute information MDP obtained, which concatenates the JURSCODE field (or MUNI field for municipal tier maps), followed by a space, followed by the name of the shapefile or feature class received from the jurisdiction. Field contains \u201cMDP\u201d if tiers were digitized by MDP, and is blank (\u2018 \u2018) for historical data. SRC_DATE (Source Date) \u2013 The date (YYYYMMDD) the GIS data were obtained by Planning from the local jurisdiction. If the month or day is unknown, the date is YYYY0000. If MDP digitized the growth tier map in coordination with a local jurisdiction, this should be the date MDP\u2019s edits are verified by the jurisdiction. This field will be blank (\u2018 \u2019) if MDP\u2019s edits have not been verified or if the dataset is historical and the source is unknown. NOTE (Notes)\u2013 Text field containing additional notes about the data.Disclaimer: The Maryland Department of Planning cannot guarantee the accuracy of the information contained in this resource. Each user is responsible for determining its suitability for his or her intended use or purpose. The Maryland Department of Planning or the State of Maryland has no liability from any damages or interpretations caused by this resource. Any errors or omissions should be reported to Deborah Sward at deborah.sward@maryland.gov.Date Last Updated: June 2026",
"Subject": "Growth Tier Maps Adopted by County and Municipal Jurisdictions under the Sustainable Growth & Agricultural Preservation Act of 2012 (SB236)",
"Category": "",
"Version": "3.3.0",
"AntialiasingMode": "Fast",
"TextAntialiasingMode": "Force",
"Keywords": "Maryland,Maryland Department of Planning,Planning,Geospatial Data and Analysis,GIS,Growth Tiers,SB236,Septics Law,Planning Cadastre,MD iMap,Vector,Dynamic,WMS,WFS,KML"
},
"supportsQueryDomains": true,
"capabilities": "Map,Query,Data",
"supportedQueryFormats": "JSON, geoJSON, PBF",
"exportTilesAllowed": false,
"referenceScale": 0.0,
"datumTransformations": [
{
"geoTransforms": [
{
"wkid": 108190,
"latestWkid": 108190,
"transformForward": true,
"name": "WGS_1984_(ITRF00)_To_NAD_1983"
}
]
},
{
"geoTransforms": [
{
"wkid": 108190,
"latestWkid": 108190,
"transformForward": false,
"name": "WGS_1984_(ITRF00)_To_NAD_1983"
}
]
}
],
"supportsDatumTransformation": true,
"archivingInfo": {"supportsHistoricMoment": false},
"supportsClipping": true,
"supportsSpatialFilter": true,
"supportsTimeRelation": true,
"supportsQueryDataElements": true,
"mapUnits": {"uwkid": 9001},
"maxRecordCount": 2000,
"maxImageHeight": 4096,
"maxImageWidth": 4096,
"supportedExtensions": ""
}