{
 "currentVersion": 11.3,
 "cimVersion": "3.3.0",
 "serviceDescription": "",
 "mapName": "TEST_PPA",
 "description": "",
 "copyrightText": "",
 "supportsDynamicLayers": false,
 "layers": [
  {
   "id": 1,
   "name": "TEST_PPA_GIS_DEV",
   "parentLayerId": -1,
   "defaultVisibility": true,
   "subLayerIds": null,
   "minScale": 0,
   "maxScale": 0,
   "type": "Feature Layer",
   "geometryType": "esriGeometryPolygon",
   "supportsDynamicLegends": true
  }
 ],
 "tables": [],
 "spatialReference": {
  "wkid": 26985,
  "latestWkid": 26985,
  "xyTolerance": 0.001,
  "zTolerance": 2,
  "mTolerance": 0.001,
  "falseX": -36747100,
  "falseY": -29091500,
  "xyUnits": 1.2123691021292362E8,
  "falseZ": 0,
  "zUnits": 1,
  "falseM": -100000,
  "mUnits": 10000
 },
 "singleFusedMapCache": true,
 "tileInfo": {
  "rows": 256,
  "cols": 256,
  "dpi": 96,
  "format": "PNG",
  "compressionQuality": 75,
  "origin": {
   "x": -3.67469824932288E7,
   "y": 3.3878631359997824E7
  },
  "spatialReference": {
   "wkid": 26985,
   "latestWkid": 26985,
   "xyTolerance": 0.001,
   "zTolerance": 2,
   "mTolerance": 0.001,
   "falseX": -36747100,
   "falseY": -29091500,
   "xyUnits": 1.2123691021292362E8,
   "falseZ": 0,
   "zUnits": 1,
   "falseM": -100000,
   "mUnits": 10000
  },
  "lods": [
   {
    "level": 0,
    "resolution": 529.1677250021168,
    "scale": 2000000
   },
   {
    "level": 1,
    "resolution": 264.5838625010584,
    "scale": 1000000
   },
   {
    "level": 2,
    "resolution": 132.2919312505292,
    "scale": 500000
   },
   {
    "level": 3,
    "resolution": 66.1459656252646,
    "scale": 250000
   },
   {
    "level": 4,
    "resolution": 33.0729828126323,
    "scale": 125000
   },
   {
    "level": 5,
    "resolution": 16.933367200067735,
    "scale": 64000
   },
   {
    "level": 6,
    "resolution": 8.466683600033868,
    "scale": 32000
   },
   {
    "level": 7,
    "resolution": 4.233341800016934,
    "scale": 16000
   },
   {
    "level": 8,
    "resolution": 2.116670900008467,
    "scale": 8000
   },
   {
    "level": 9,
    "resolution": 1.0583354500042335,
    "scale": 4000
   },
   {
    "level": 10,
    "resolution": 0.5291677250021167,
    "scale": 2000
   },
   {
    "level": 11,
    "resolution": 0.26458386250105836,
    "scale": 1000
   },
   {
    "level": 12,
    "resolution": 0.13229193125052918,
    "scale": 500
   },
   {
    "level": 13,
    "resolution": 0.06614596562526459,
    "scale": 250
   },
   {
    "level": 14,
    "resolution": 0.033072982812632296,
    "scale": 125
   }
  ]
 },
 "storageInfo": {
  "storageFormat": "esriMapCacheStorageModeCompactV2",
  "packetSize": 128
 },
 "initialExtent": {
  "xmin": -14971.771026325936,
  "ymin": -283960.76095629,
  "xmax": 780280.0566243769,
  "ymax": 507344.40750011656,
  "spatialReference": {
   "wkid": 26985,
   "latestWkid": 26985,
   "xyTolerance": 0.001,
   "zTolerance": 2,
   "mTolerance": 0.001,
   "falseX": -36747100,
   "falseY": -29091500,
   "xyUnits": 1.2123691021292362E8,
   "falseZ": 0,
   "zUnits": 1,
   "falseM": -100000,
   "mUnits": 10000
  }
 },
 "fullExtent": {
  "xmin": 312058.73099999875,
  "ymin": 37257.835999999195,
  "xmax": 557958.8255999982,
  "ymax": 228755.35200000182,
  "spatialReference": {
   "wkid": 26985,
   "latestWkid": 26985,
   "xyTolerance": 0.001,
   "zTolerance": 2,
   "mTolerance": 0.001,
   "falseX": -36747100,
   "falseY": -29091500,
   "xyUnits": 1.2123691021292362E8,
   "falseZ": 0,
   "zUnits": 1,
   "falseM": -100000,
   "mUnits": 10000
  }
 },
 "datesInUnknownTimezone": false,
 "minScale": 2142304.139234867,
 "maxScale": 66947.00435108959,
 "units": "esriMeters",
 "supportedImageFormatTypes": "PNG32,PNG24,PNG,JPG,DIB,TIFF,EMF,PS,PDF,GIF,SVG,SVGZ,BMP",
 "documentInfo": {
  "Title": "Priority_Preservation_Areas.aprx",
  "Author": "",
  "Comments": "",
  "Subject": "",
  "Category": "",
  "Version": "3.3.0",
  "AntialiasingMode": "Fast",
  "TextAntialiasingMode": "Force",
  "Keywords": "MD"
 },
 "supportsQueryDomains": true,
 "capabilities": "Map,Query,Data",
 "supportedQueryFormats": "JSON, geoJSON, PBF",
 "exportTilesAllowed": false,
 "referenceScale": 0.0,
 "datumTransformations": [
  {
   "geoTransforms": [
    {
     "wkid": 108001,
     "latestWkid": 1241,
     "transformForward": true,
     "name": "NAD_1927_To_NAD_1983_NADCON"
    }
   ]
  },
  {
   "geoTransforms": [
    {
     "wkid": 108001,
     "latestWkid": 1241,
     "transformForward": false,
     "name": "NAD_1927_To_NAD_1983_NADCON"
    }
   ]
  }
 ],
 "supportsDatumTransformation": true,
 "archivingInfo": {
  "supportsHistoricMoment": false
 },
 "supportsClipping": true,
 "supportsSpatialFilter": true,
 "supportsTimeRelation": true,
 "supportsQueryDataElements": true,
 "mapUnits": {
  "uwkid": 9001
 },
 "maxRecordCount": 2000,
 "maxImageHeight": 4096,
 "maxImageWidth": 4096,
 "supportedExtensions": "",
 "resampling": false
}
