{
 "currentVersion": 11.3,
 "cimVersion": "3.3.0",
 "serviceDescription": "",
 "mapName": "HB538",
 "description": "",
 "copyrightText": "",
 "supportsDynamicLayers": false,
 "layers": [
  {
   "id": 2,
   "name": "HB 538 Transit Stations Buffer",
   "parentLayerId": -1,
   "defaultVisibility": true,
   "subLayerIds": null,
   "minScale": 0,
   "maxScale": 0,
   "type": "Feature Layer",
   "geometryType": "esriGeometryPolygon",
   "supportsDynamicLegends": true
  }
 ],
 "tables": [],
 "spatialReference": {
  "wkid": 26985,
  "latestWkid": 26985,
  "xyTolerance": 0.001,
  "zTolerance": 0.001,
  "mTolerance": 0.001,
  "falseX": -36747100,
  "falseY": -29091500,
  "xyUnits": 10000,
  "falseZ": -100000,
  "zUnits": 10000,
  "falseM": -100000,
  "mUnits": 10000
 },
 "singleFusedMapCache": true,
 "tileInfo": {
  "rows": 256,
  "cols": 256,
  "dpi": 96,
  "format": "PNG",
  "compressionQuality": 0,
  "origin": {
   "x": -3.67469824932288E7,
   "y": 3.3878631359997824E7
  },
  "spatialReference": {
   "wkid": 26985,
   "latestWkid": 26985,
   "xyTolerance": 0.001,
   "zTolerance": 0.001,
   "mTolerance": 0.001,
   "falseX": -36747100,
   "falseY": -29091500,
   "xyUnits": 10000,
   "falseZ": -100000,
   "zUnits": 10000,
   "falseM": -100000,
   "mUnits": 10000
  },
  "lods": [
   {
    "level": 0,
    "resolution": 290210.80072835,
    "scale": 1.0968597192882519E9
   },
   {
    "level": 1,
    "resolution": 145105.400364175,
    "scale": 5.484298596441259E8
   },
   {
    "level": 2,
    "resolution": 72552.7001820875,
    "scale": 2.7421492982206297E8
   },
   {
    "level": 3,
    "resolution": 36276.35009104375,
    "scale": 1.3710746491103148E8
   },
   {
    "level": 4,
    "resolution": 18138.175045521875,
    "scale": 6.855373245551574E7
   },
   {
    "level": 5,
    "resolution": 9069.087522760938,
    "scale": 3.427686622775787E7
   },
   {
    "level": 6,
    "resolution": 4534.543761380469,
    "scale": 1.7138433113878936E7
   },
   {
    "level": 7,
    "resolution": 2267.2718806902344,
    "scale": 8569216.556939468
   },
   {
    "level": 8,
    "resolution": 1133.6359403451172,
    "scale": 4284608.278469734
   },
   {
    "level": 9,
    "resolution": 566.8179701725586,
    "scale": 2142304.139234867
   },
   {
    "level": 10,
    "resolution": 283.4089850862793,
    "scale": 1071152.0696174335
   },
   {
    "level": 11,
    "resolution": 141.70449254313965,
    "scale": 535576.0348087167
   },
   {
    "level": 12,
    "resolution": 70.85224627156983,
    "scale": 267788.01740435837
   },
   {
    "level": 13,
    "resolution": 35.42612313578491,
    "scale": 133894.00870217918
   },
   {
    "level": 14,
    "resolution": 17.713061567892456,
    "scale": 66947.00435108959
   },
   {
    "level": 15,
    "resolution": 8.856530783946228,
    "scale": 33473.502175544796
   },
   {
    "level": 16,
    "resolution": 4.428265391973114,
    "scale": 16736.751087772398
   },
   {
    "level": 17,
    "resolution": 2.214132695986557,
    "scale": 8368.375543886199
   },
   {
    "level": 18,
    "resolution": 1.1070663479932785,
    "scale": 4184.1877719430995
   }
  ]
 },
 "storageInfo": {
  "storageFormat": "esriMapCacheStorageModeCompactV2",
  "packetSize": 128
 },
 "initialExtent": {
  "xmin": 226328.21594020975,
  "ymin": 79109.64733732119,
  "xmax": 482336.3721473561,
  "ymax": 269271.3253269234,
  "spatialReference": {
   "wkid": 26985,
   "latestWkid": 26985,
   "xyTolerance": 0.001,
   "zTolerance": 0.001,
   "mTolerance": 0.001,
   "falseX": -36747100,
   "falseY": -29091500,
   "xyUnits": 10000,
   "falseZ": -100000,
   "zUnits": 10000,
   "falseM": -100000,
   "mUnits": 10000
  }
 },
 "fullExtent": {
  "xmin": 248151.29450000077,
  "ymin": 127613.37040000036,
  "xmax": 480802.10930000246,
  "ymax": 222612.09340000153,
  "spatialReference": {
   "wkid": 26985,
   "latestWkid": 26985,
   "xyTolerance": 0.001,
   "zTolerance": 0.001,
   "mTolerance": 0.001,
   "falseX": -36747100,
   "falseY": -29091500,
   "xyUnits": 10000,
   "falseZ": -100000,
   "zUnits": 10000,
   "falseM": -100000,
   "mUnits": 10000
  }
 },
 "datesInUnknownTimezone": false,
 "minScale": 4284608.278469734,
 "maxScale": 8368.375543886199,
 "minLOD": 8,
 "maxLOD": 17,
 "units": "esriMeters",
 "supportedImageFormatTypes": "PNG32,PNG24,PNG,JPG,DIB,TIFF,EMF,PS,PDF,GIF,SVG,SVGZ,BMP",
 "documentInfo": {
  "Title": "HB538",
  "Author": "",
  "Comments": "",
  "Subject": "",
  "Category": "",
  "Version": "3.3.0",
  "AntialiasingMode": "Fast",
  "TextAntialiasingMode": "Force",
  "Keywords": "Maryland,MDP,HB 538,Transit Stations,Buffer"
 },
 "supportsQueryDomains": true,
 "capabilities": "Map,Query,Data",
 "supportedQueryFormats": "JSON, geoJSON, PBF",
 "exportTilesAllowed": false,
 "referenceScale": 0.0,
 "datumTransformations": [
  {
   "geoTransforms": [
    {
     "wkid": 108190,
     "latestWkid": 108190,
     "transformForward": true,
     "name": "WGS_1984_(ITRF00)_To_NAD_1983"
    }
   ]
  },
  {
   "geoTransforms": [
    {
     "wkid": 108190,
     "latestWkid": 108190,
     "transformForward": false,
     "name": "WGS_1984_(ITRF00)_To_NAD_1983"
    }
   ]
  },
  {
   "geoTransforms": [
    {
     "wkid": 108190,
     "latestWkid": 108190,
     "transformForward": true,
     "name": "WGS_1984_(ITRF00)_To_NAD_1983"
    }
   ]
  },
  {
   "geoTransforms": [
    {
     "wkid": 108190,
     "latestWkid": 108190,
     "transformForward": false,
     "name": "WGS_1984_(ITRF00)_To_NAD_1983"
    }
   ]
  }
 ],
 "supportsDatumTransformation": true,
 "archivingInfo": {
  "supportsHistoricMoment": false
 },
 "supportsClipping": true,
 "supportsSpatialFilter": true,
 "supportsTimeRelation": true,
 "supportsQueryDataElements": true,
 "mapUnits": {
  "uwkid": 9001
 },
 "maxRecordCount": 2000,
 "maxImageHeight": 4096,
 "maxImageWidth": 4096,
 "supportedExtensions": "",
 "resampling": false
}
