View In:
ArcGIS JavaScript
ArcGIS Online Map Viewer
ArcGIS Earth
ArcGIS Pro
Service Description: The purpose of the 2010 land use/land cover data set is to provide a generalized view of how developed land has changed throughout the state, primarily capturing the conversion of resource land to development and characterizing the type of development (e.g. very low density, low density, medium density or high density residential development, commercial, industrial, institutional).
Map Name: LandUse_2002_Comp
Legend
All Layers and Tables
Dynamic Legend
Dynamic All Layers
Layers:
Description: The purpose of the 2010 land use/land cover data set is to provide a generalized view of how developed land has changed throughout the state, primarily capturing the conversion of resource land to development and characterizing the type of development (e.g. very low density, low density, medium density or high density residential development, commercial, industrial, institutional).
Copyright Text:
Spatial Reference:
26985
(26985)
Single Fused Map Cache: true
Tile Info:
- Height: 256
- Width: 256
- DPI: 96
-
Levels of Detail: 19
-
Level ID: 0
[ Start Tile, End Tile ]
- Resolution: 290210.80072835
- Scale: 1.0968597192882519E9
-
Level ID: 1
[ Start Tile, End Tile ]
- Resolution: 145105.400364175
- Scale: 5.484298596441259E8
-
Level ID: 2
[ Start Tile, End Tile ]
- Resolution: 72552.7001820875
- Scale: 2.7421492982206297E8
-
Level ID: 3
[ Start Tile, End Tile ]
- Resolution: 36276.35009104375
- Scale: 1.3710746491103148E8
-
Level ID: 4
[ Start Tile, End Tile ]
- Resolution: 18138.175045521875
- Scale: 6.855373245551574E7
-
Level ID: 5
[ Start Tile, End Tile ]
- Resolution: 9069.087522760938
- Scale: 3.427686622775787E7
-
Level ID: 6
[ Start Tile, End Tile ]
- Resolution: 4534.543761380469
- Scale: 1.7138433113878936E7
-
Level ID: 7
[ Start Tile, End Tile ]
- Resolution: 2267.2718806902344
- Scale: 8569216.556939468
-
Level ID: 8
[ Start Tile, End Tile ]
- Resolution: 1133.6359403451172
- Scale: 4284608.278469734
-
Level ID: 9
[ Start Tile, End Tile ]
- Resolution: 566.8179701725586
- Scale: 2142304.139234867
-
Level ID: 10
[ Start Tile, End Tile ]
- Resolution: 283.4089850862793
- Scale: 1071152.0696174335
-
Level ID: 11
[ Start Tile, End Tile ]
- Resolution: 141.70449254313965
- Scale: 535576.0348087167
-
Level ID: 12
[ Start Tile, End Tile ]
- Resolution: 70.85224627156983
- Scale: 267788.01740435837
-
Level ID: 13
[ Start Tile, End Tile ]
- Resolution: 35.42612313578491
- Scale: 133894.00870217918
-
Level ID: 14
[ Start Tile, End Tile ]
- Resolution: 17.713061567892456
- Scale: 66947.00435108959
-
Level ID: 15
[ Start Tile, End Tile ]
- Resolution: 8.856530783946228
- Scale: 33473.502175544796
-
Level ID: 16
[ Start Tile, End Tile ]
- Resolution: 4.428265391973114
- Scale: 16736.751087772398
-
Level ID: 17
[ Start Tile, End Tile ]
- Resolution: 2.214132695986557
- Scale: 8368.375543886199
-
Level ID: 18
[ Start Tile, End Tile ]
- Resolution: 1.1070663479932785
- Scale: 4184.1877719430995
- Format: PNG
- Compression Quality: 0.0
- Origin: X: -3.67469824932288E7
Y: 3.3878631359997824E7
- Spatial Reference: 26985
(26985)
Storage Info:
- Storage Format: esriMapCacheStorageModeCompactV2
- Packet Size: 128
Initial Extent:
XMin: 157210.1032117939
YMin: -35916.53236376573
XMax: 603099.4942882025
YMax: 292075.59176376543
Spatial Reference: 26985
(26985)
Full Extent:
XMin: 185216.90999999642
YMin: 25188.359400000423
XMax: 575092.6875
YMax: 230970.69999999925
Spatial Reference: 26985
(26985)
Units: esriMeters
Supported Image Format Types: PNG32,PNG24,PNG,JPG,DIB,TIFF,EMF,PS,PDF,GIF,SVG,SVGZ,BMP
Document Info:
Title: landuse_layers
Author:
Comments: The purpose of the 2010 land use/land cover data set is to provide a generalized view of how developed land has changed throughout the state, primarily capturing the conversion of resource land to development and characterizing the type of development (e.g. very low density, low density, medium density or high density residential development, commercial, industrial, institutional).
Subject:
Category:
Keywords: Maryland,Land Use,2002
AntialiasingMode: Fast
TextAntialiasingMode: Force
Supports Dynamic Layers: true
Resampling: false
MaxRecordCount: 2000
MaxImageHeight: 4096
MaxImageWidth: 4096
Supported Query Formats: JSON, geoJSON, PBF
Supports Query Data Elements: true
Min Scale: 4284608.278469734
Max Scale: 8368.375543886199
Min LOD: 8
Max LOD: 17
Supports Datum Transformation: true
Child Resources:
Info
Dynamic Layer
Supported Operations:
Export Map
Identify
QueryLegends
QueryDomains
Find
Return Updates