View In:
ArcGIS JavaScript
ArcGIS Online Map Viewer
ArcGIS Earth
ArcGIS Pro
Service Description: The purpose of the 2010 land use/land cover data set is to provide a generalized view of how developed land has changed throughout the state, primarily capturing the conversion of resource land to development and characterizing the type of development (e.g. very low density, low density, medium density or high density residential development, commercial, industrial, institutional).
Urban Land Uses
11 Low-density residential - Detached single-family/duplex dwelling units, yards and associated areas. Areas of more than 90 percent single-family/duplex dwelling units, with lot sizes of less than five acres but at least one-half acre (.2 dwelling units/acre to 2 dwelling units/acre).
12 Medium-density residential - Detached single-family/duplex, attached single-unit row housing, yards, and associated areas. Areas of more than 90 percent single-family/duplex units and attached single-unit row housing, with lot sizes of less than one-half acre but at least one-eighth acre (2 dwelling units/acre to 8 dwelling units/acre).
13 High-density residential - Attached single-unit row housing, garden apartments, high-rise apartments/condominiums, mobile home and trailer parks; areas of more than 90 percent high-density residential units, with more than 8 dwelling units per acre.
14 Commercial - Retail and wholesale services. Areas used primarily for the sale of products and services, including associated yards and parking areas.
15 Industrial - Manufacturing and industrial parks, including associated warehouses, storage yards, research laboratories, and parking areas.
16 Institutional - Elementary and secondary schools, middle schools, junior and senior high schools, public and private colleges and universities, military installations (built-up areas only, including buildings and storage, training, and similar areas), churches, medical and health facilities, correctional facilities, and government offices and facilities that are clearly separable from the surrounding land cover.
17 Extractive - Surface mining operations, including sand and gravel pits, quarries, coal surface mines, and deep coal mines. Status of activity (active vs. abandoned) is not distinguished.
18 Open urban land - Urban areas whose use does not require structures, or urban areas where non-conforming uses characterized by open land have become isolated. Included are golf courses, parks, recreation areas (except areas associated with schools or other institutions), cemeteries, and entrapped agricultural and undeveloped land within urban areas.
191 Large lot subdivision (agriculture) - Residential subdivisions with lot sizes of less than 20 acres but at least 5 acres, with a dominant land cover of open fields or pasture.
192 Large lot subdivision (forest) - Residential subdivisions with lot sizes of less than 20 acres but at least 5 acres, with a dominant land cover of deciduous, evergreen or mixed forest.
Agriculture
21 Cropland - Field crops and forage crops.
22 Pasture - Land used for pasture, both permanent and rotated; grass.
23 Orchards/vineyards/horticulture - Areas of intensively managed commercial bush and tree crops, including areas used for fruit production, vineyards, sod and seed farms, nurseries, and green houses.
24 Feeding operations - Cattle feed lots, holding lots for animals, hog feeding lots, poultry houses, and commercial fishing areas (including oyster beds).
241 Feeding operations - Cattle feed lots, holding lots for animals, hog feeding lots, poultry houses.
242 Agricultural building breeding and training facilities, storage facilities, built-up areas associated with a farmstead, small farm ponds, commercial fishing areas.
25 Row and garden crops - Intensively managed truck and vegetable farms and associated areas.
Forest
41 Deciduous forest - Forested areas in which the trees characteristically lose their leaves at the end of the growing season. Included are such species as oak, hickory, aspen, sycamore, birch, yellow poplar, elm, maple, and cypress.
42 Evergreen forest - Forested areas in which the trees are characterized by persistent foliage throughout the year. Included are such species as white pine, pond pine, hemlock, southern white cedar, and red pine.
43 Mixed forest - Forested areas in which neither deciduous nor evergreen species dominate, but in which there is a combination of both types.
44 Brush - Areas which do not produce timber or other wood products but may have cut-over timber stands, abandoned agriculture fields, or pasture. These areas are characterized by vegetation types such as sumac, vines, rose, brambles, and tree seedlings.
Water
50 Water - Rivers, waterways, reservoirs, ponds, bays, estuaries, and ocean.
Wetlands
60 Wetlands - Forested or non-forested wetlands, including tidal flats, tidal and non-tidal marshes, and upland swamps and wet areas.
Barren Land
70 Barren land
71 Beaches - Extensive shoreline areas of sand and gravel accumulation, with no vegetative cover or other land use.
72 Bare exposed rock - Areas of bedrock exposure, scarps, and other natural accumulations of rock without vegetative cover.
73 Bare ground - Areas of exposed ground caused naturally, by construction, or by other cultural processes.
Transportation
80 Transportation - Miscellaneous Transportation features not elsewhere classified.
Map Name: LandUse_2010_Comp
Legend
All Layers and Tables
Layers:
Description: The purpose of the 2010 land use/land cover data set is to provide a generalized view of how developed land has changed throughout the state, primarily capturing the conversion of resource land to development and characterizing the type of development (e.g. very low density, low density, medium density or high density residential development, commercial, industrial, institutional). Urban Land Uses11 Low-density residential - Detached single-family/duplex dwelling units, yards and associated areas. Areas of more than 90 percent single-family/duplex dwelling units, with lot sizes of less than five acres but at least one-half acre (.2 dwelling units/acre to 2 dwelling units/acre).12 Medium-density residential - Detached single-family/duplex, attached single-unit row housing, yards, and associated areas. Areas of more than 90 percent single-family/duplex units and attached single-unit row housing, with lot sizes of less than one-half acre but at least one-eighth acre (2 dwelling units/acre to 8 dwelling units/acre).13 High-density residential - Attached single-unit row housing, garden apartments, high-rise apartments/condominiums, mobile home and trailer parks; areas of more than 90 percent high-density residential units, with more than 8 dwelling units per acre.14 Commercial - Retail and wholesale services. Areas used primarily for the sale of products and services, including associated yards and parking areas.15 Industrial - Manufacturing and industrial parks, including associated warehouses, storage yards, research laboratories, and parking areas.16 Institutional - Elementary and secondary schools, middle schools, junior and senior high schools, public and private colleges and universities, military installations (built-up areas only, including buildings and storage, training, and similar areas), churches, medical and health facilities, correctional facilities, and government offices and facilities that are clearly separable from the surrounding land cover.17 Extractive - Surface mining operations, including sand and gravel pits, quarries, coal surface mines, and deep coal mines. Status of activity (active vs. abandoned) is not distinguished.18 Open urban land - Urban areas whose use does not require structures, or urban areas where non-conforming uses characterized by open land have become isolated. Included are golf courses, parks, recreation areas (except areas associated with schools or other institutions), cemeteries, and entrapped agricultural and undeveloped land within urban areas.191 Large lot subdivision (agriculture) - Residential subdivisions with lot sizes of less than 20 acres but at least 5 acres, with a dominant land cover of open fields or pasture.192 Large lot subdivision (forest) - Residential subdivisions with lot sizes of less than 20 acres but at least 5 acres, with a dominant land cover of deciduous, evergreen or mixed forest.Agriculture21 Cropland - Field crops and forage crops.22 Pasture - Land used for pasture, both permanent and rotated; grass.23 Orchards/vineyards/horticulture - Areas of intensively managed commercial bush and tree crops, including areas used for fruit production, vineyards, sod and seed farms, nurseries, and green houses.24 Feeding operations - Cattle feed lots, holding lots for animals, hog feeding lots, poultry houses, and commercial fishing areas (including oyster beds).241 Feeding operations - Cattle feed lots, holding lots for animals, hog feeding lots, poultry houses.242 Agricultural building breeding and training facilities, storage facilities, built-up areas associated with a farmstead, small farm ponds, commercial fishing areas.25 Row and garden crops - Intensively managed truck and vegetable farms and associated areas.Forest41 Deciduous forest - Forested areas in which the trees characteristically lose their leaves at the end of the growing season. Included are such species as oak, hickory, aspen, sycamore, birch, yellow poplar, elm, maple, and cypress.42 Evergreen forest - Forested areas in which the trees are characterized by persistent foliage throughout the year. Included are such species as white pine, pond pine, hemlock, southern white cedar, and red pine.43 Mixed forest - Forested areas in which neither deciduous nor evergreen species dominate, but in which there is a combination of both types.44 Brush - Areas which do not produce timber or other wood products but may have cut-over timber stands, abandoned agriculture fields, or pasture. These areas are characterized by vegetation types such as sumac, vines, rose, brambles, and tree seedlings.Water50 Water - Rivers, waterways, reservoirs, ponds, bays, estuaries, and ocean.Wetlands60 Wetlands - Forested or non-forested wetlands, including tidal flats, tidal and non-tidal marshes, and upland swamps and wet areas.Barren Land70 Barren land71 Beaches - Extensive shoreline areas of sand and gravel accumulation, with no vegetative cover or other land use.72 Bare exposed rock - Areas of bedrock exposure, scarps, and other natural accumulations of rock without vegetative cover.73 Bare ground - Areas of exposed ground caused naturally, by construction, or by other cultural processes.Transportation80 Transportation - Miscellaneous Transportation features not elsewhere classified.
Copyright Text: Source Imagery: 2007 National Agriculture Imagery Program (NAIP) aerial imageryProperty data information: 2008 Edition Maryland Property View
Spatial Reference:
26985
(26985)
Single Fused Map Cache: true
Tile Info:
- Height: 256
- Width: 256
- DPI: 96
-
Levels of Detail: 19
-
Level ID: 0
[ Start Tile, End Tile ]
- Resolution: 290210.80072835
- Scale: 1.0968597192882519E9
-
Level ID: 1
[ Start Tile, End Tile ]
- Resolution: 145105.400364175
- Scale: 5.484298596441259E8
-
Level ID: 2
[ Start Tile, End Tile ]
- Resolution: 72552.7001820875
- Scale: 2.7421492982206297E8
-
Level ID: 3
[ Start Tile, End Tile ]
- Resolution: 36276.35009104375
- Scale: 1.3710746491103148E8
-
Level ID: 4
[ Start Tile, End Tile ]
- Resolution: 18138.175045521875
- Scale: 6.855373245551574E7
-
Level ID: 5
[ Start Tile, End Tile ]
- Resolution: 9069.087522760938
- Scale: 3.427686622775787E7
-
Level ID: 6
[ Start Tile, End Tile ]
- Resolution: 4534.543761380469
- Scale: 1.7138433113878936E7
-
Level ID: 7
[ Start Tile, End Tile ]
- Resolution: 2267.2718806902344
- Scale: 8569216.556939468
-
Level ID: 8
[ Start Tile, End Tile ]
- Resolution: 1133.6359403451172
- Scale: 4284608.278469734
-
Level ID: 9
[ Start Tile, End Tile ]
- Resolution: 566.8179701725586
- Scale: 2142304.139234867
-
Level ID: 10
[ Start Tile, End Tile ]
- Resolution: 283.4089850862793
- Scale: 1071152.0696174335
-
Level ID: 11
[ Start Tile, End Tile ]
- Resolution: 141.70449254313965
- Scale: 535576.0348087167
-
Level ID: 12
[ Start Tile, End Tile ]
- Resolution: 70.85224627156983
- Scale: 267788.01740435837
-
Level ID: 13
[ Start Tile, End Tile ]
- Resolution: 35.42612313578491
- Scale: 133894.00870217918
-
Level ID: 14
[ Start Tile, End Tile ]
- Resolution: 17.713061567892456
- Scale: 66947.00435108959
-
Level ID: 15
[ Start Tile, End Tile ]
- Resolution: 8.856530783946228
- Scale: 33473.502175544796
-
Level ID: 16
[ Start Tile, End Tile ]
- Resolution: 4.428265391973114
- Scale: 16736.751087772398
-
Level ID: 17
[ Start Tile, End Tile ]
- Resolution: 2.214132695986557
- Scale: 8368.375543886199
-
Level ID: 18
[ Start Tile, End Tile ]
- Resolution: 1.1070663479932785
- Scale: 4184.1877719430995
- Format: PNG
- Compression Quality: 0.0
- Origin: X: -3.67469824932288E7
Y: 3.3878631359997824E7
- Spatial Reference: 26985
(26985)
Storage Info:
- Storage Format: esriMapCacheStorageModeCompactV2
- Packet Size: 128
Initial Extent:
XMin: 157210.0990100873
YMin: -35916.53278043796
XMax: 603099.4948899078
YMax: 292075.59488043864
Spatial Reference: 26985
(26985)
Full Extent:
XMin: 185216.90609999746
YMin: 25188.359000001103
XMax: 575092.6877999976
YMax: 230970.70309999958
Spatial Reference: 26985
(26985)
Units: esriMeters
Supported Image Format Types: PNG32,PNG24,PNG,JPG,DIB,TIFF,EMF,PS,PDF,GIF,SVG,SVGZ,BMP
Document Info:
Title: LandUse_2010_Comp
Author:
Comments: The purpose of the 2010 land use/land cover data set is to provide a generalized view of how developed land has changed throughout the state, primarily capturing the conversion of resource land to development and characterizing the type of development (e.g. very low density, low density, medium density or high density residential development, commercial, industrial, institutional). Urban Land Uses11 Low-density residential - Detached single-family/duplex dwelling units, yards and associated areas. Areas of more than 90 percent single-family/duplex dwelling units, with lot sizes of less than five acres but at least one-half acre (.2 dwelling units/acre to 2 dwelling units/acre).12 Medium-density residential - Detached single-family/duplex, attached single-unit row housing, yards, and associated areas. Areas of more than 90 percent single-family/duplex units and attached single-unit row housing, with lot sizes of less than one-half acre but at least one-eighth acre (2 dwelling units/acre to 8 dwelling units/acre).13 High-density residential - Attached single-unit row housing, garden apartments, high-rise apartments/condominiums, mobile home and trailer parks; areas of more than 90 percent high-density residential units, with more than 8 dwelling units per acre.14 Commercial - Retail and wholesale services. Areas used primarily for the sale of products and services, including associated yards and parking areas.15 Industrial - Manufacturing and industrial parks, including associated warehouses, storage yards, research laboratories, and parking areas.16 Institutional - Elementary and secondary schools, middle schools, junior and senior high schools, public and private colleges and universities, military installations (built-up areas only, including buildings and storage, training, and similar areas), churches, medical and health facilities, correctional facilities, and government offices and facilities that are clearly separable from the surrounding land cover.17 Extractive - Surface mining operations, including sand and gravel pits, quarries, coal surface mines, and deep coal mines. Status of activity (active vs. abandoned) is not distinguished.18 Open urban land - Urban areas whose use does not require structures, or urban areas where non-conforming uses characterized by open land have become isolated. Included are golf courses, parks, recreation areas (except areas associated with schools or other institutions), cemeteries, and entrapped agricultural and undeveloped land within urban areas.191 Large lot subdivision (agriculture) - Residential subdivisions with lot sizes of less than 20 acres but at least 5 acres, with a dominant land cover of open fields or pasture.192 Large lot subdivision (forest) - Residential subdivisions with lot sizes of less than 20 acres but at least 5 acres, with a dominant land cover of deciduous, evergreen or mixed forest.Agriculture21 Cropland - Field crops and forage crops.22 Pasture - Land used for pasture, both permanent and rotated; grass.23 Orchards/vineyards/horticulture - Areas of intensively managed commercial bush and tree crops, including areas used for fruit production, vineyards, sod and seed farms, nurseries, and green houses.24 Feeding operations - Cattle feed lots, holding lots for animals, hog feeding lots, poultry houses, and commercial fishing areas (including oyster beds).241 Feeding operations - Cattle feed lots, holding lots for animals, hog feeding lots, poultry houses.242 Agricultural building breeding and training facilities, storage facilities, built-up areas associated with a farmstead, small farm ponds, commercial fishing areas.25 Row and garden crops - Intensively managed truck and vegetable farms and associated areas.Forest41 Deciduous forest - Forested areas in which the trees characteristically lose their leaves at the end of the growing season. Included are such species as oak, hickory, aspen, sycamore, birch, yellow poplar, elm, maple, and cypress.42 Evergreen forest - Forested areas in which the trees are characterized by persistent foliage throughout the year. Included are such species as white pine, pond pine, hemlock, southern white cedar, and red pine.43 Mixed forest - Forested areas in which neither deciduous nor evergreen species dominate, but in which there is a combination of both types.44 Brush - Areas which do not produce timber or other wood products but may have cut-over timber stands, abandoned agriculture fields, or pasture. These areas are characterized by vegetation types such as sumac, vines, rose, brambles, and tree seedlings.Water50 Water - Rivers, waterways, reservoirs, ponds, bays, estuaries, and ocean.Wetlands60 Wetlands - Forested or non-forested wetlands, including tidal flats, tidal and non-tidal marshes, and upland swamps and wet areas.Barren Land70 Barren land71 Beaches - Extensive shoreline areas of sand and gravel accumulation, with no vegetative cover or other land use.72 Bare exposed rock - Areas of bedrock exposure, scarps, and other natural accumulations of rock without vegetative cover.73 Bare ground - Areas of exposed ground caused naturally, by construction, or by other cultural processes.Transportation80 Transportation - Miscellaneous Transportation features not elsewhere classified.
Subject: This dataset uses the Anderson Level 2 Classification System to display land use/land cover for each Maryland County and Baltimore City. Initially developed using high altitude aerial photography and satellite imagery. For 2010 publication date product, land cover types were updated using 2007 National Agriculture Imagery Program (NAIP) aerial imagery and parcel information from the 2008 Edition of MDProperty View. The primary purpose of the data set is to display generalized land use / land cover to support planning, economic development, transportation and environmental mapping efforts in Maryland.
Category:
Keywords: Maryland,Land Use,2010
AntialiasingMode: Fast
TextAntialiasingMode: Force
Supports Dynamic Layers: false
Resampling: false
MaxRecordCount: 2000
MaxImageHeight: 4096
MaxImageWidth: 4096
Supported Query Formats: JSON, geoJSON, PBF
Supports Query Data Elements: true
Min Scale: 4284608.278469734
Max Scale: 8368.375543886199
Min LOD: 8
Max LOD: 17
Supports Datum Transformation: true
Child Resources:
Info
Supported Operations:
Export Map
Identify
QueryLegends
QueryDomains
Find
Return Updates