View In:
ArcGIS JavaScript
ArcGIS Online Map Viewer
ArcGIS Earth
ArcGIS Pro
Service Description: The Natural Resources Area layer was developed for use within the Maryland Growth and Conservation Interactive Map. It was developed using Targeted Ecological Areas (TEA, 2011This layer was most recently updated in February 2026. The layer will be updated when model inputs are updated by the Department of Natural Resources.
Map Name: Natural_Resource_Areas_GC
Legend
All Layers and Tables
Layers:
Description: The Natural Resources Area layer was developed for use within the Maryland Growth and Conservation Interactive Map. It was developed using Targeted Ecological Areas (TEA, 2011This layer was most recently updated in February 2026. The layer will be updated when model inputs are updated by the Department of Natural Resources.
Copyright Text: Maryland Department of Planning, Geospatial Data and Modeling Unit
Spatial Reference:
102100
(3857)
Single Fused Map Cache: true
Tile Info:
- Height: 256
- Width: 256
- DPI: 96
-
Levels of Detail: 24
-
Level ID: 1
[ Start Tile, End Tile ]
- Resolution: 78271.5169639999
- Scale: 2.95828763795777E8
-
Level ID: 2
[ Start Tile, End Tile ]
- Resolution: 39135.7584820001
- Scale: 1.47914381897889E8
-
Level ID: 3
[ Start Tile, End Tile ]
- Resolution: 19567.8792409999
- Scale: 7.3957190948944E7
-
Level ID: 4
[ Start Tile, End Tile ]
- Resolution: 9783.93962049996
- Scale: 3.6978595474472E7
-
Level ID: 5
[ Start Tile, End Tile ]
- Resolution: 4891.96981024998
- Scale: 1.8489297737236E7
- Format: PNG
- Compression Quality: 0.0
- Origin: X: -2.0037508342787E7
Y: 2.0037508342787E7
- Spatial Reference: 102100
(3857)
Storage Info:
- Storage Format: esriMapCacheStorageModeCompactV2
- Packet Size: 128
Initial Extent:
XMin: -8848516.973107012
YMin: 4511803.815380926
XMax: -8358363.087038102
YMax: 4880101.26224161
Spatial Reference: 102100
(3857)
Full Extent:
XMin: -8848465.2018
YMin: 4568370.834399998
XMax: -8355552.5449
YMax: 4825783.0198
Spatial Reference: 102100
(3857)
Units: esriMeters
Supported Image Format Types: PNG32,PNG24,PNG,JPG,DIB,TIFF,EMF,PS,PDF,GIF,SVG,SVGZ,BMP
Document Info:
Title: Natural_Resource_Areas
Author:
Comments: The Natural Resources Area layer was developed for use within the Maryland Growth and Conservation Interactive Map. It was developed using Targeted Ecological Areas (TEA, 2011This layer was most recently updated in February 2026. The layer will be updated when model inputs are updated by the Department of Natural Resources.
Subject: Preservation/Conservation Overlay Areas for use in the Growth and Conservation application.
Category:
Keywords: Growth and Conservation,Local and Targeted Growth,Maryland,MDP,MD,Maryland Department of Planning,Sustainable Growth,Growth and Conservation - Natural Resources Data Layer
AntialiasingMode: Fastest
TextAntialiasingMode: Force
Supports Dynamic Layers: false
Resampling: false
MaxRecordCount: 2000
MaxImageHeight: 4096
MaxImageWidth: 4096
Supported Query Formats: JSON, geoJSON, PBF
Supports Query Data Elements: true
Min Scale: 2311162.217155
Max Scale: 72223.819286
Supports Datum Transformation: true
Child Resources:
Info
Supported Operations:
Export Map
Identify
QueryLegends
QueryDomains
Find
Return Updates