View In:
ArcGIS JavaScript
ArcGIS Online Map Viewer
ArcGIS Earth
ArcGIS Pro
Service Description: For more information on the attribute definitions please see the MdProperty View User's Guide, available for download at https://planning.maryland.gov/Pages/OurProducts/DownloadFiles.aspx .
**Please Note: Due to the extensive size of the parcel points file, download is recommended from the REST endpoint.
Feature Service Layer Link:
https://geodata.md.gov/imap/rest/services/PlanningCadastre/MD_PropertyData/MapServer/0
Map Name: Property_Sales
Legend
All Layers and Tables
Dynamic Legend
Dynamic All Layers
Layers:
Description: For more information on the attribute definitions please see the MdProperty View User's Guide, available for download at https://planning.maryland.gov/Pages/OurProducts/DownloadFiles.aspx . **Please Note: Due to the extensive size of the parcel points file, download is recommended from the REST endpoint.Feature Service Layer Link:https://geodata.md.gov/imap/rest/services/PlanningCadastre/MD_PropertyData/MapServer/0
Copyright Text: Maryland Department of Planning, MDP
Spatial Reference:
102100
(3857)
Single Fused Map Cache: true
Tile Info:
- Height: 256
- Width: 256
- DPI: 96
-
Levels of Detail: 24
-
Level ID: 1
[ Start Tile, End Tile ]
- Resolution: 78271.5169639999
- Scale: 2.95828763795777E8
-
Level ID: 2
[ Start Tile, End Tile ]
- Resolution: 39135.7584820001
- Scale: 1.47914381897889E8
-
Level ID: 3
[ Start Tile, End Tile ]
- Resolution: 19567.8792409999
- Scale: 7.3957190948944E7
-
Level ID: 4
[ Start Tile, End Tile ]
- Resolution: 9783.93962049996
- Scale: 3.6978595474472E7
-
Level ID: 5
[ Start Tile, End Tile ]
- Resolution: 4891.96981024998
- Scale: 1.8489297737236E7
- Format: PNG
- Compression Quality: 0.0
- Origin: X: -2.0037508342787E7
Y: 2.0037508342787E7
- Spatial Reference: 102100
(3857)
Storage Info:
- Storage Format: esriMapCacheStorageModeCompactV2
- Packet Size: 128
Initial Extent:
XMin: -8879340.175097957
YMin: 4511982.235490586
XMax: -8305165.97387639
YMax: 4879380.464406204
Spatial Reference: 102100
(3857)
Full Extent:
XMin: -9075788.1531
YMin: 4519879.047499999
XMax: -8354547.563200001
YMax: 4825737.559699997
Spatial Reference: 102100
(3857)
Units: esriMeters
Supported Image Format Types: PNG32,PNG24,PNG,JPG,DIB,TIFF,EMF,PS,PDF,GIF,SVG,SVGZ,BMP
Document Info:
Title: Property Sales
Author:
Comments: For more information on the attribute definitions please see the MdProperty View User's Guide, available for download at https://planning.maryland.gov/Pages/OurProducts/DownloadFiles.aspx . **Please Note: Due to the extensive size of the parcel points file, download is recommended from the REST endpoint.Feature Service Layer Link:https://geodata.md.gov/imap/rest/services/PlanningCadastre/MD_PropertyData/MapServer/0
Subject: This is a comprehensive point theme that incorporates parcel ownership and address information, parcel valuation information and basic information about the land and structure(s) associated with a given tax assessment account. Data for the Parcel point theme are obtained from the State Department of Assessments and Taxation with added data from Maryland Department of Planning. The date the point was most recently published in Planning's data products MdProperty View and FINDER Quantum is contained in the mdpvdate field. The date of the most recent Assessments data linkage to MdProperty View/FINDER Quantum points is contained in the sdatdate field. Accounts deleted between those two dates are no longer represented as points.
Category:
Keywords: Maryland,Maryland Department of Planning,Planning,Geospatial Data and Analysis,GIS,PLAN_Property_Sales,Property Sales
AntialiasingMode: Fast
TextAntialiasingMode: Force
Supports Dynamic Layers: true
MaxRecordCount: 2000
MaxImageHeight: 4096
MaxImageWidth: 4096
Supported Query Formats: JSON, geoJSON, PBF
Supports Query Data Elements: true
Min Scale: 0
Max Scale: 0
Supports Datum Transformation: true
Child Resources:
Info
Dynamic Layer
Supported Operations:
Export Map
Identify
QueryLegends
QueryDomains
Find
Return Updates