View In:
ArcGIS JavaScript
ArcGIS Online Map Viewer
ArcGIS Earth
ArcGIS Pro
Service Description:
Map Name: ENOUGH_Act_2026
Legend
All Layers and Tables
Layers:
Description:
Copyright Text:
Spatial Reference:
26985
(26985)
Single Fused Map Cache: true
Tile Info:
- Height: 256
- Width: 256
- DPI: 96
-
Levels of Detail: 24
-
Level ID: 0
[ Start Tile, End Tile ]
- Resolution: 290210.80072835
- Scale: 1.0968597192882519E9
-
Level ID: 1
[ Start Tile, End Tile ]
- Resolution: 145105.400364175
- Scale: 5.484298596441259E8
-
Level ID: 2
[ Start Tile, End Tile ]
- Resolution: 72552.7001820875
- Scale: 2.7421492982206297E8
-
Level ID: 3
[ Start Tile, End Tile ]
- Resolution: 36276.35009104375
- Scale: 1.3710746491103148E8
-
Level ID: 4
[ Start Tile, End Tile ]
- Resolution: 18138.175045521875
- Scale: 6.855373245551574E7
-
Level ID: 5
[ Start Tile, End Tile ]
- Resolution: 9069.087522760938
- Scale: 3.427686622775787E7
-
Level ID: 6
[ Start Tile, End Tile ]
- Resolution: 4534.543761380469
- Scale: 1.7138433113878936E7
-
Level ID: 7
[ Start Tile, End Tile ]
- Resolution: 2267.2718806902344
- Scale: 8569216.556939468
-
Level ID: 8
[ Start Tile, End Tile ]
- Resolution: 1133.6359403451172
- Scale: 4284608.278469734
-
Level ID: 9
[ Start Tile, End Tile ]
- Resolution: 566.8179701725586
- Scale: 2142304.139234867
-
Level ID: 10
[ Start Tile, End Tile ]
- Resolution: 283.4089850862793
- Scale: 1071152.0696174335
-
Level ID: 11
[ Start Tile, End Tile ]
- Resolution: 141.70449254313965
- Scale: 535576.0348087167
-
Level ID: 12
[ Start Tile, End Tile ]
- Resolution: 70.85224627156983
- Scale: 267788.01740435837
-
Level ID: 13
[ Start Tile, End Tile ]
- Resolution: 35.42612313578491
- Scale: 133894.00870217918
-
Level ID: 14
[ Start Tile, End Tile ]
- Resolution: 17.713061567892456
- Scale: 66947.00435108959
-
Level ID: 15
[ Start Tile, End Tile ]
- Resolution: 8.856530783946228
- Scale: 33473.502175544796
-
Level ID: 16
[ Start Tile, End Tile ]
- Resolution: 4.428265391973114
- Scale: 16736.751087772398
-
Level ID: 17
[ Start Tile, End Tile ]
- Resolution: 2.214132695986557
- Scale: 8368.375543886199
-
Level ID: 18
[ Start Tile, End Tile ]
- Resolution: 1.1070663479932785
- Scale: 4184.1877719430995
-
Level ID: 19
[ Start Tile, End Tile ]
- Resolution: 0.5535331739966393
- Scale: 2092.0938859715498
-
Level ID: 20
[ Start Tile, End Tile ]
- Resolution: 0.27676658699831963
- Scale: 1046.0469429857749
-
Level ID: 21
[ Start Tile, End Tile ]
- Resolution: 0.13838329349915982
- Scale: 523.0234714928874
-
Level ID: 22
[ Start Tile, End Tile ]
- Resolution: 0.06919164674957991
- Scale: 261.5117357464437
-
Level ID: 23
[ Start Tile, End Tile ]
- Resolution: 0.034595823374789954
- Scale: 130.75586787322186
- Format: PNG
- Compression Quality: 0.0
- Origin: X: -3.67469824932288E7
Y: 3.3878631359997824E7
- Spatial Reference: 26985
(26985)
Storage Info:
- Storage Format: esriMapCacheStorageModeCompactV2
- Packet Size: 128
Initial Extent:
XMin: 283818.2427002917
YMin: 68133.08154909074
XMax: 471706.00049970497
YMax: 189606.3022509092
Spatial Reference: 26985
(26985)
Full Extent:
XMin: 185213.14570000023
YMin: 26772.292399998754
XMax: 570311.0974999964
YMax: 230967.0914000012
Spatial Reference: 26985
(26985)
Units: esriMeters
Supported Image Format Types: PNG32,PNG24,PNG,JPG,DIB,TIFF,EMF,PS,PDF,GIF,SVG,SVGZ,BMP
Document Info:
Title: Map
Author:
Comments:
Subject:
Category:
Keywords: Child Poverty,Childhood Poverty,Enough Act,ENOUGH,Social,Economic,Education,Schools,Grant,Poverty,Maryland
AntialiasingMode: Fast
TextAntialiasingMode: Force
Supports Dynamic Layers: false
MaxRecordCount: 2000
MaxImageHeight: 4096
MaxImageWidth: 4096
Supported Query Formats: JSON, geoJSON, PBF
Supports Query Data Elements: true
Min Scale: 2142304.139234867
Max Scale: 66947.00435108959
Min LOD: 9
Max LOD: 14
Supports Datum Transformation: true
Child Resources:
Info
Supported Operations:
Export Map
Identify
QueryLegends
QueryDomains
Find
Return Updates