View In:
ArcGIS JavaScript
ArcGIS Online Map Viewer
ArcGIS Earth
ArcGIS Pro
Service Description: CPFA (Certified PFA): If field is populated as “IN” then the PFA has been designated at a Priority Funding Area locally.
Rural Village Code (RUVI_CODE): RV = within a Rural Village
Rural Village Name (RUVI_NAME): Name of the Rural Village
JURSCODE (Jurisdiction Code) – Four letter county code: ALLE (Allegany), ANNE (Anne Arundel), BACI (Baltimore City), BACO (Baltimore County), CALV (Calvert), CARO (Caroline), CARR (Carroll), CECI (Cecil), CHAR (Charles), DORC (Dorchester), FRED (Frederick), GARR (Garrett), HARF (Harford), HOWA (Howard), KENT (Kent), MONT (Montgomery), PRIN (Prince George’s) QUEE (Queen Anne’s), SOME (Somerset), STMA (St. Mary’s), TALB (Talbot), WASH (Washington), WICO (Wicomico), WORC (Worcester).
STATE_ELIGIBLE_STATUS (State Eligible): This field is based on whether the PFA has a comment. If there is no comment, then the field will be populated with YES; if there is a state-placed comment, the field will be populated with NO.
Map Name: Rural_Villages
Legend
All Layers and Tables
Dynamic Legend
Dynamic All Layers
Layers:
Description: CPFA (Certified PFA): If field is populated as “IN” then the PFA has been designated at a Priority Funding Area locally. Rural Village Code (RUVI_CODE): RV = within a Rural VillageRural Village Name (RUVI_NAME): Name of the Rural VillageJURSCODE (Jurisdiction Code) – Four letter county code: ALLE (Allegany), ANNE (Anne Arundel), BACI (Baltimore City), BACO (Baltimore County), CALV (Calvert), CARO (Caroline), CARR (Carroll), CECI (Cecil), CHAR (Charles), DORC (Dorchester), FRED (Frederick), GARR (Garrett), HARF (Harford), HOWA (Howard), KENT (Kent), MONT (Montgomery), PRIN (Prince George’s) QUEE (Queen Anne’s), SOME (Somerset), STMA (St. Mary’s), TALB (Talbot), WASH (Washington), WICO (Wicomico), WORC (Worcester).STATE_ELIGIBLE_STATUS (State Eligible): This field is based on whether the PFA has a comment. If there is no comment, then the field will be populated with YES; if there is a state-placed comment, the field will be populated with NO.
Copyright Text: Maryland Department of Planning, MDP
Spatial Reference:
102100
(3857)
Single Fused Map Cache: true
Tile Info:
- Height: 256
- Width: 256
- DPI: 96
-
Levels of Detail: 24
-
Level ID: 1
[ Start Tile, End Tile ]
- Resolution: 78271.5169639999
- Scale: 2.95828763795777E8
-
Level ID: 2
[ Start Tile, End Tile ]
- Resolution: 39135.7584820001
- Scale: 1.47914381897889E8
-
Level ID: 3
[ Start Tile, End Tile ]
- Resolution: 19567.8792409999
- Scale: 7.3957190948944E7
-
Level ID: 4
[ Start Tile, End Tile ]
- Resolution: 9783.93962049996
- Scale: 3.6978595474472E7
-
Level ID: 5
[ Start Tile, End Tile ]
- Resolution: 4891.96981024998
- Scale: 1.8489297737236E7
- Format: PNG
- Compression Quality: 0.0
- Origin: X: -2.0037508342787E7
Y: 2.0037508342787E7
- Spatial Reference: 102100
(3857)
Storage Info:
- Storage Format: esriMapCacheStorageModeCompactV2
- Packet Size: 128
Initial Extent:
XMin: -8849395.732414499
YMin: 4537509.387731044
XMax: -8418944.421724688
YMax: 4886743.469988814
Spatial Reference: 102100
(3857)
Full Extent:
XMin: -8848033.2972
YMin: 4573281.466200002
XMax: -8354485.2333
YMax: 4825780.984300002
Spatial Reference: 102100
(3857)
Units: esriMeters
Supported Image Format Types: PNG32,PNG24,PNG,JPG,DIB,TIFF,EMF,PS,PDF,GIF,SVG,SVGZ,BMP
Document Info:
Title: Rural Villages
Author:
Comments: CPFA (Certified PFA): If field is populated as “IN” then the PFA has been designated at a Priority Funding Area locally. Rural Village Code (RUVI_CODE): RV = within a Rural VillageRural Village Name (RUVI_NAME): Name of the Rural VillageJURSCODE (Jurisdiction Code) – Four letter county code: ALLE (Allegany), ANNE (Anne Arundel), BACI (Baltimore City), BACO (Baltimore County), CALV (Calvert), CARO (Caroline), CARR (Carroll), CECI (Cecil), CHAR (Charles), DORC (Dorchester), FRED (Frederick), GARR (Garrett), HARF (Harford), HOWA (Howard), KENT (Kent), MONT (Montgomery), PRIN (Prince George’s) QUEE (Queen Anne’s), SOME (Somerset), STMA (St. Mary’s), TALB (Talbot), WASH (Washington), WICO (Wicomico), WORC (Worcester).STATE_ELIGIBLE_STATUS (State Eligible): This field is based on whether the PFA has a comment. If there is no comment, then the field will be populated with YES; if there is a state-placed comment, the field will be populated with NO.
Subject: Maryland Department of Planning (MDP) maps Rural Villages for the State of Maryland. This dataset is created and maintained by the Maryland Department of Planning.
Category:
Keywords:
AntialiasingMode: Fast
TextAntialiasingMode: Force
Supports Dynamic Layers: true
MaxRecordCount: 2000
MaxImageHeight: 4096
MaxImageWidth: 4096
Supported Query Formats: JSON, geoJSON, PBF
Supports Query Data Elements: true
Min Scale: 1155581.108577
Max Scale: 18055.954822
Min LOD: 9
Max LOD: 15
Supports Datum Transformation: true
Child Resources:
Info
Dynamic Layer
Supported Operations:
Export Map
Identify
QueryLegends
QueryDomains
Find
Return Updates